BEGIN:VCALENDAR
PRODID:-//nuDatenautomaten//framework iCal4j //DE
VERSION:2.0
CALSCALE:GREGORIAN
BEGIN:VTIMEZONE
TZID:Europe/Berlin
LAST-MODIFIED:20260306T231828Z
TZURL:https://www.tzurl.org/zoneinfo/Europe/Berlin
X-LIC-LOCATION:Europe/Berlin
X-PROLEPTIC-TZNAME:LMT
BEGIN:STANDARD
TZNAME:CET
TZOFFSETFROM:+005328
TZOFFSETTO:+0100
DTSTART:18930401T000000
END:STANDARD
BEGIN:DAYLIGHT
TZNAME:CEST
TZOFFSETFROM:+0100
TZOFFSETTO:+0200
DTSTART:19160430T230000
RDATE:19400401T020000
RDATE:19430329T020000
RDATE:19460414T020000
RDATE:19470406T030000
RDATE:19480418T020000
RDATE:19490410T020000
RDATE:19800406T020000
END:DAYLIGHT
BEGIN:STANDARD
TZNAME:CET
TZOFFSETFROM:+0200
TZOFFSETTO:+0100
DTSTART:19161001T010000
RDATE:19421102T030000
RDATE:19431004T030000
RDATE:19441002T030000
RDATE:19451118T030000
RDATE:19461007T030000
END:STANDARD
BEGIN:DAYLIGHT
TZNAME:CEST
TZOFFSETFROM:+0100
TZOFFSETTO:+0200
DTSTART:19170416T020000
RRULE:FREQ=YEARLY;UNTIL=19180415T010000Z;BYMONTH=4;BYDAY=3MO
END:DAYLIGHT
BEGIN:STANDARD
TZNAME:CET
TZOFFSETFROM:+0200
TZOFFSETTO:+0100
DTSTART:19170917T030000
RRULE:FREQ=YEARLY;UNTIL=19180916T010000Z;BYMONTH=9;BYDAY=3MO
END:STANDARD
BEGIN:DAYLIGHT
TZNAME:CEST
TZOFFSETFROM:+0100
TZOFFSETTO:+0200
DTSTART:19440403T020000
RRULE:FREQ=YEARLY;UNTIL=19450402T010000Z;BYMONTH=4;BYDAY=1MO
END:DAYLIGHT
BEGIN:DAYLIGHT
TZNAME:CEMT
TZOFFSETFROM:+0200
TZOFFSETTO:+0300
DTSTART:19450524T020000
RDATE:19470511T030000
END:DAYLIGHT
BEGIN:DAYLIGHT
TZNAME:CEST
TZOFFSETFROM:+0300
TZOFFSETTO:+0200
DTSTART:19450924T030000
RDATE:19470629T030000
END:DAYLIGHT
BEGIN:STANDARD
TZNAME:CET
TZOFFSETFROM:+0100
TZOFFSETTO:+0100
DTSTART:19460101T000000
RDATE:19800101T000000
END:STANDARD
BEGIN:STANDARD
TZNAME:CET
TZOFFSETFROM:+0200
TZOFFSETTO:+0100
DTSTART:19471005T030000
RRULE:FREQ=YEARLY;UNTIL=19491002T010000Z;BYMONTH=10;BYDAY=1SU
END:STANDARD
BEGIN:STANDARD
TZNAME:CET
TZOFFSETFROM:+0200
TZOFFSETTO:+0100
DTSTART:19800928T030000
RRULE:FREQ=YEARLY;UNTIL=19950924T010000Z;BYMONTH=9;BYDAY=-1SU
END:STANDARD
BEGIN:DAYLIGHT
TZNAME:CEST
TZOFFSETFROM:+0100
TZOFFSETTO:+0200
DTSTART:19810329T020000
RRULE:FREQ=YEARLY;BYMONTH=3;BYDAY=-1SU
END:DAYLIGHT
BEGIN:STANDARD
TZNAME:CET
TZOFFSETFROM:+0200
TZOFFSETTO:+0100
DTSTART:19961027T030000
RRULE:FREQ=YEARLY;BYMONTH=10;BYDAY=-1SU
END:STANDARD
END:VTIMEZONE
BEGIN:VEVENT
DTSTAMP:20260421T071716Z
DTSTART;TZID=Europe/Berlin:20260411T151500
DTEND;TZID=Europe/Berlin:20260411T161500
SUMMARY:AOLMJC HG 85 Köthen vs TuS Radis (2541)
UID:88fe87d0-77c9-4ebd-8072-473855c1d0d3
STATUS:CONFIRMED
LAST-MODIFIED:20260417T083916Z
DESCRIPTION:männliche C-Jugend Bezirksoberliga\nBegegnungs-Nr: 2541\nHeim: HG 85 Köthen\nGast: TuS Radis\nHalle: Heinz-Fricke-SH Köthen (3086)\nAdresse: An der Rüsternbreite\, 06366 Köthen\n
LOCATION:Heinz-Fricke-SH Köthen (3086): An der Rüsternbreite\, 06366 Köthen
CATEGORIES:Saison 2025/26
END:VEVENT
BEGIN:VEVENT
DTSTAMP:20260421T071716Z
DTSTART;TZID=Europe/Berlin:20251115T110000
DTEND;TZID=Europe/Berlin:20251115T120000
SUMMARY:AOLMJC HG 85 Köthen vs Jessener SV 53 (2502)
UID:72a23026-8481-4d61-ab4d-904d911b92aa
STATUS:CONFIRMED
LAST-MODIFIED:20251205T091326Z
DESCRIPTION:männliche C-Jugend Bezirksoberliga\nBegegnungs-Nr: 2502\nHeim: HG 85 Köthen\nGast: Jessener SV 53\nHalle: Heinz-Fricke-SH Köthen (3086)\nAdresse: An der Rüsternbreite\, 06366 Köthen\n
LOCATION:Heinz-Fricke-SH Köthen (3086): An der Rüsternbreite\, 06366 Köthen
CATEGORIES:Saison 2025/26
END:VEVENT
BEGIN:VEVENT
DTSTAMP:20260421T071716Z
DTSTART;TZID=Europe/Berlin:20251206T100000
DTEND;TZID=Europe/Berlin:20251206T110000
SUMMARY:AOLMJC HG 85 Köthen vs SG Kühnau  (2519)
UID:d20edf35-d448-44f7-9d36-0dd82146cfd2
STATUS:CONFIRMED
LAST-MODIFIED:20260107T165513Z
DESCRIPTION:männliche C-Jugend Bezirksoberliga\nBegegnungs-Nr: 2519\nHeim: HG 85 Köthen\nGast: SG Kühnau \nHalle: Heinz-Fricke-SH Köthen (3086)\nAdresse: An der Rüsternbreite\, 06366 Köthen\n
LOCATION:Heinz-Fricke-SH Köthen (3086): An der Rüsternbreite\, 06366 Köthen
CATEGORIES:Saison 2025/26
END:VEVENT
BEGIN:VEVENT
DTSTAMP:20260421T071716Z
DTSTART;TZID=Europe/Berlin:20251122T150000
DTEND;TZID=Europe/Berlin:20251122T160000
SUMMARY:AOLMJC HG 85 Köthen vs TuS Radis (2511)
UID:6e70cdf1-7245-4caa-980f-72a026a3470b
STATUS:CONFIRMED
LAST-MODIFIED:20251205T091414Z
DESCRIPTION:männliche C-Jugend Bezirksoberliga\nBegegnungs-Nr: 2511\nHeim: HG 85 Köthen\nGast: TuS Radis\nHalle: Heinz-Fricke-SH Köthen (3086)\nAdresse: An der Rüsternbreite\, 06366 Köthen\n
LOCATION:Heinz-Fricke-SH Köthen (3086): An der Rüsternbreite\, 06366 Köthen
CATEGORIES:Saison 2025/26
END:VEVENT
BEGIN:VEVENT
DTSTAMP:20260421T071716Z
DTSTART;TZID=Europe/Berlin:20260117T113000
DTEND;TZID=Europe/Berlin:20260117T123000
SUMMARY:AOLMJC HG 85 Köthen vs SV Blau-Rot Coswig  (2523)
UID:17c2f293-464b-4789-a6de-a1178e0791e8
STATUS:CONFIRMED
LAST-MODIFIED:20260118T041144Z
DESCRIPTION:männliche C-Jugend Bezirksoberliga\nBegegnungs-Nr: 2523\nHeim: HG 85 Köthen\nGast: SV Blau-Rot Coswig \nHalle: Heinz-Fricke-SH Köthen (3086)\nAdresse: An der Rüsternbreite\, 06366 Köthen\n
LOCATION:Heinz-Fricke-SH Köthen (3086): An der Rüsternbreite\, 06366 Köthen
CATEGORIES:Saison 2025/26
END:VEVENT
BEGIN:VEVENT
DTSTAMP:20260421T071716Z
DTSTART;TZID=Europe/Berlin:20260215T113000
DTEND;TZID=Europe/Berlin:20260215T123000
SUMMARY:AOLMJC HG 85 Köthen vs HSG Wolfen 2000 (2527)
UID:67156751-0666-45a3-a38f-ece10d92ec97
STATUS:CONFIRMED
LAST-MODIFIED:20260216T174428Z
DESCRIPTION:männliche C-Jugend Bezirksoberliga\nBegegnungs-Nr: 2527\nHeim: HG 85 Köthen\nGast: HSG Wolfen 2000\nHalle: Heinz-Fricke-SH Köthen (3086)\nAdresse: An der Rüsternbreite\, 06366 Köthen\n
LOCATION:Heinz-Fricke-SH Köthen (3086): An der Rüsternbreite\, 06366 Köthen
CATEGORIES:Saison 2025/26
END:VEVENT
BEGIN:VEVENT
DTSTAMP:20260421T071716Z
DTSTART;TZID=Europe/Berlin:20260221T163000
DTEND;TZID=Europe/Berlin:20260221T173000
SUMMARY:AOLMJC HG 85 Köthen vs Jessener SV 53 (2532)
UID:00775643-a359-4963-b662-c649b4b1214a
STATUS:CONFIRMED
LAST-MODIFIED:20260220T144647Z
DESCRIPTION:männliche C-Jugend Bezirksoberliga\nBegegnungs-Nr: 2532\nHeim: HG 85 Köthen\nGast: Jessener SV 53\nHalle: Heinz-Fricke-SH Köthen (3086)\nAdresse: An der Rüsternbreite\, 06366 Köthen\n
LOCATION:Heinz-Fricke-SH Köthen (3086): An der Rüsternbreite\, 06366 Köthen
CATEGORIES:Saison 2025/26
END:VEVENT
BEGIN:VEVENT
DTSTAMP:20260421T071716Z
DTSTART;TZID=Europe/Berlin:20260322T121500
DTEND;TZID=Europe/Berlin:20260322T131500
SUMMARY:AOLMJC SV Blau-Rot Coswig  vs HG 85 Köthen (2538)
UID:5c42031c-f6c2-47c4-9a78-b29272a8376a
STATUS:CONFIRMED
DESCRIPTION:männliche C-Jugend Bezirksoberliga\nBegegnungs-Nr: 2538\nHeim: SV Blau-Rot Coswig \nGast: HG 85 Köthen\nHalle: Stadt-SH Coswig (3136)\nAdresse: Antonienhüttenweg 16\, 06869 Coswig\n
LOCATION:Stadt-SH Coswig (3136): Antonienhüttenweg 16\, 06869 Coswig
CATEGORIES:Saison 2025/26
END:VEVENT
BEGIN:VEVENT
DTSTAMP:20260421T071716Z
DTSTART;TZID=Europe/Berlin:20260426T120000
DTEND;TZID=Europe/Berlin:20260426T130000
SUMMARY:AOLMJC HSG Wolfen 2000 vs HG 85 Köthen (2542)
UID:82863851-8bbc-4db7-a59f-9a6ee287f978
STATUS:CONFIRMED
DESCRIPTION:männliche C-Jugend Bezirksoberliga\nBegegnungs-Nr: 2542\nHeim: HSG Wolfen 2000\nGast: HG 85 Köthen\nHalle: SH BSZ August von Parseval Bitterfeld (3011)\nAdresse: Parseval-Straße 2\, 06749 Bitterfeld\n
LOCATION:SH BSZ August von Parseval Bitterfeld (3011): Parseval-Straße 2\, 06749 Bitterfeld
CATEGORIES:Saison 2025/26
END:VEVENT
BEGIN:VEVENT
DTSTAMP:20260421T071716Z
DTSTART;TZID=Europe/Berlin:20250920T100000
DTEND;TZID=Europe/Berlin:20250920T110000
SUMMARY:AOLMJC SG Kühnau  vs HG 85 Köthen (2504)
UID:ae042a7c-5e8e-4183-8d86-c03b9c9d4827
STATUS:CONFIRMED
LAST-MODIFIED:20250923T172436Z
DESCRIPTION:männliche C-Jugend Bezirksoberliga\nBegegnungs-Nr: 2504\nHeim: SG Kühnau \nGast: HG 85 Köthen\nHalle: SH Friedensschule Dessau (3030)\nAdresse: Elballee\, 06846 Dessau-Roßlau / OT Ziebigk\n
LOCATION:SH Friedensschule Dessau (3030): Elballee\, 06846 Dessau-Roßlau / OT Ziebigk
CATEGORIES:Saison 2025/26
END:VEVENT
BEGIN:VEVENT
DTSTAMP:20260421T071716Z
DTSTART;TZID=Europe/Berlin:20251129T100000
DTEND;TZID=Europe/Berlin:20251129T110000
SUMMARY:AOLMJC Jessener SV 53 vs HG 85 Köthen (2517)
UID:0d0b806e-775d-47e7-b3eb-d384c3efc3de
STATUS:CONFIRMED
LAST-MODIFIED:20251205T091611Z
DESCRIPTION:männliche C-Jugend Bezirksoberliga\nBegegnungs-Nr: 2517\nHeim: Jessener SV 53\nGast: HG 85 Köthen\nHalle: SH Nordschule Jessen (3074)\nAdresse: Straße der Jugend 9\, 06917 Jessen\n
LOCATION:SH Nordschule Jessen (3074): Straße der Jugend 9\, 06917 Jessen
CATEGORIES:Saison 2025/26
END:VEVENT
BEGIN:VEVENT
DTSTAMP:20260421T071716Z
DTSTART;TZID=Europe/Berlin:20250928T130000
DTEND;TZID=Europe/Berlin:20250928T140000
SUMMARY:AOLMJC SV Blau-Rot Coswig  vs HG 85 Köthen (2508)
UID:d1a5f0ef-358a-47c7-8806-888267377a0d
STATUS:CONFIRMED
LAST-MODIFIED:20251004T210325Z
DESCRIPTION:männliche C-Jugend Bezirksoberliga\nBegegnungs-Nr: 2508\nHeim: SV Blau-Rot Coswig \nGast: HG 85 Köthen\nHalle: Stadt-SH Coswig (3136)\nAdresse: Antonienhüttenweg 16\, 06869 Coswig\n
LOCATION:Stadt-SH Coswig (3136): Antonienhüttenweg 16\, 06869 Coswig
CATEGORIES:Saison 2025/26
END:VEVENT
BEGIN:VEVENT
DTSTAMP:20260421T071716Z
DTSTART;TZID=Europe/Berlin:20251108T134500
DTEND;TZID=Europe/Berlin:20251108T144500
SUMMARY:AOLMJC HSG Wolfen 2000 vs HG 85 Köthen (2512)
UID:25f36fd3-d4bb-4447-9c76-bc9546be3f18
STATUS:CONFIRMED
LAST-MODIFIED:20251205T091022Z
DESCRIPTION:männliche C-Jugend Bezirksoberliga\nBegegnungs-Nr: 2512\nHeim: HSG Wolfen 2000\nGast: HG 85 Köthen\nHalle: SH BSZ August von Parseval Bitterfeld (3011)\nAdresse: Parseval-Straße 2\, 06749 Bitterfeld\n
LOCATION:SH BSZ August von Parseval Bitterfeld (3011): Parseval-Straße 2\, 06749 Bitterfeld
CATEGORIES:Saison 2025/26
END:VEVENT
BEGIN:VEVENT
DTSTAMP:20260421T071716Z
DTSTART;TZID=Europe/Berlin:20260228T140000
DTEND;TZID=Europe/Berlin:20260228T150000
SUMMARY:AOLMJC TuS Radis vs HG 85 Köthen (2526)
UID:5a6b541e-6869-4b5d-9f98-c37c04b2fab9
STATUS:CONFIRMED
LAST-MODIFIED:20260301T060017Z
DESCRIPTION:männliche C-Jugend Bezirksoberliga\nBegegnungs-Nr: 2526\nHeim: TuS Radis\nGast: HG 85 Köthen\nHalle: SH Gräfenhainichen (3040)\nAdresse: Lindenallee\, 06773 Gräfenhainichen\n
LOCATION:SH Gräfenhainichen (3040): Lindenallee\, 06773 Gräfenhainichen
CATEGORIES:Saison 2025/26
END:VEVENT
BEGIN:VEVENT
DTSTAMP:20260421T071716Z
DTSTART;TZID=Europe/Berlin:20260308T120000
DTEND;TZID=Europe/Berlin:20260308T130000
SUMMARY:AOLMJC SG Kühnau  vs HG 85 Köthen (2534)
UID:2619f158-54d4-4ce8-a98b-18984183441a
STATUS:CONFIRMED
LAST-MODIFIED:20260322T010621Z
DESCRIPTION:männliche C-Jugend Bezirksoberliga\nBegegnungs-Nr: 2534\nHeim: SG Kühnau \nGast: HG 85 Köthen\nHalle: SH Friedensschule Dessau (3030)\nAdresse: Elballee\, 06846 Dessau-Roßlau / OT Ziebigk\n
LOCATION:SH Friedensschule Dessau (3030): Elballee\, 06846 Dessau-Roßlau / OT Ziebigk
CATEGORIES:Saison 2025/26
END:VEVENT
END:VCALENDAR
