BEGIN:VCALENDAR
PRODID:-//nuDatenautomaten//framework iCal4j //DE
VERSION:2.0
CALSCALE:GREGORIAN
BEGIN:VTIMEZONE
TZID:Europe/Berlin
LAST-MODIFIED:20260306T231828Z
TZURL:https://www.tzurl.org/zoneinfo/Europe/Berlin
X-LIC-LOCATION:Europe/Berlin
X-PROLEPTIC-TZNAME:LMT
BEGIN:STANDARD
TZNAME:CET
TZOFFSETFROM:+005328
TZOFFSETTO:+0100
DTSTART:18930401T000000
END:STANDARD
BEGIN:DAYLIGHT
TZNAME:CEST
TZOFFSETFROM:+0100
TZOFFSETTO:+0200
DTSTART:19160430T230000
RDATE:19400401T020000
RDATE:19430329T020000
RDATE:19460414T020000
RDATE:19470406T030000
RDATE:19480418T020000
RDATE:19490410T020000
RDATE:19800406T020000
END:DAYLIGHT
BEGIN:STANDARD
TZNAME:CET
TZOFFSETFROM:+0200
TZOFFSETTO:+0100
DTSTART:19161001T010000
RDATE:19421102T030000
RDATE:19431004T030000
RDATE:19441002T030000
RDATE:19451118T030000
RDATE:19461007T030000
END:STANDARD
BEGIN:DAYLIGHT
TZNAME:CEST
TZOFFSETFROM:+0100
TZOFFSETTO:+0200
DTSTART:19170416T020000
RRULE:FREQ=YEARLY;UNTIL=19180415T010000Z;BYMONTH=4;BYDAY=3MO
END:DAYLIGHT
BEGIN:STANDARD
TZNAME:CET
TZOFFSETFROM:+0200
TZOFFSETTO:+0100
DTSTART:19170917T030000
RRULE:FREQ=YEARLY;UNTIL=19180916T010000Z;BYMONTH=9;BYDAY=3MO
END:STANDARD
BEGIN:DAYLIGHT
TZNAME:CEST
TZOFFSETFROM:+0100
TZOFFSETTO:+0200
DTSTART:19440403T020000
RRULE:FREQ=YEARLY;UNTIL=19450402T010000Z;BYMONTH=4;BYDAY=1MO
END:DAYLIGHT
BEGIN:DAYLIGHT
TZNAME:CEMT
TZOFFSETFROM:+0200
TZOFFSETTO:+0300
DTSTART:19450524T020000
RDATE:19470511T030000
END:DAYLIGHT
BEGIN:DAYLIGHT
TZNAME:CEST
TZOFFSETFROM:+0300
TZOFFSETTO:+0200
DTSTART:19450924T030000
RDATE:19470629T030000
END:DAYLIGHT
BEGIN:STANDARD
TZNAME:CET
TZOFFSETFROM:+0100
TZOFFSETTO:+0100
DTSTART:19460101T000000
RDATE:19800101T000000
END:STANDARD
BEGIN:STANDARD
TZNAME:CET
TZOFFSETFROM:+0200
TZOFFSETTO:+0100
DTSTART:19471005T030000
RRULE:FREQ=YEARLY;UNTIL=19491002T010000Z;BYMONTH=10;BYDAY=1SU
END:STANDARD
BEGIN:STANDARD
TZNAME:CET
TZOFFSETFROM:+0200
TZOFFSETTO:+0100
DTSTART:19800928T030000
RRULE:FREQ=YEARLY;UNTIL=19950924T010000Z;BYMONTH=9;BYDAY=-1SU
END:STANDARD
BEGIN:DAYLIGHT
TZNAME:CEST
TZOFFSETFROM:+0100
TZOFFSETTO:+0200
DTSTART:19810329T020000
RRULE:FREQ=YEARLY;BYMONTH=3;BYDAY=-1SU
END:DAYLIGHT
BEGIN:STANDARD
TZNAME:CET
TZOFFSETFROM:+0200
TZOFFSETTO:+0100
DTSTART:19961027T030000
RRULE:FREQ=YEARLY;BYMONTH=10;BYDAY=-1SU
END:STANDARD
END:VTIMEZONE
BEGIN:VEVENT
DTSTAMP:20260425T224033Z
DTSTART;TZID=Europe/Berlin:20251004T143000
DTEND;TZID=Europe/Berlin:20251004T153000
SUMMARY:männliche D-Jugend Oberliga HG 85 Köthen vs SV Eiche 05 Biederitz  (7025)
UID:6ae660fc-015d-47f3-bac1-955af72a74bd
STATUS:CONFIRMED
LAST-MODIFIED:20251005T093801Z
DESCRIPTION:männliche D-Jugend Oberliga\nBegegnungs-Nr: 7025\nHeim: HG 85 Köthen\nGast: SV Eiche 05 Biederitz \nHalle: Heinz-Fricke-SH Köthen (3086)\nAdresse: An der Rüsternbreite\, 06366 Köthen\n
LOCATION:Heinz-Fricke-SH Köthen (3086): An der Rüsternbreite\, 06366 Köthen
CATEGORIES:Saison 2025/26
END:VEVENT
BEGIN:VEVENT
DTSTAMP:20260425T224033Z
DTSTART;TZID=Europe/Berlin:20250920T140000
DTEND;TZID=Europe/Berlin:20250920T150000
SUMMARY:männliche D-Jugend Oberliga HG 85 Köthen vs BSV 93 Magdeburg (7015)
UID:2838d3d8-d88e-457d-a16f-ffa7bf97f4e8
STATUS:CONFIRMED
LAST-MODIFIED:20250921T143624Z
DESCRIPTION:männliche D-Jugend Oberliga\nBegegnungs-Nr: 7015\nHeim: HG 85 Köthen\nGast: BSV 93 Magdeburg\nHalle: Heinz-Fricke-SH Köthen (3086)\nAdresse: An der Rüsternbreite\, 06366 Köthen\n
LOCATION:Heinz-Fricke-SH Köthen (3086): An der Rüsternbreite\, 06366 Köthen
CATEGORIES:Saison 2025/26
END:VEVENT
BEGIN:VEVENT
DTSTAMP:20260425T224033Z
DTSTART;TZID=Europe/Berlin:20250906T144500
DTEND;TZID=Europe/Berlin:20250906T154500
SUMMARY:männliche D-Jugend Oberliga HG 85 Köthen vs USV Halle (7005)
UID:bd727d6b-9114-4ebb-bf3e-b4a6b366425a
STATUS:CONFIRMED
LAST-MODIFIED:20250907T085818Z
DESCRIPTION:männliche D-Jugend Oberliga\nBegegnungs-Nr: 7005\nHeim: HG 85 Köthen\nGast: USV Halle\nHalle: Heinz-Fricke-SH Köthen (3086)\nAdresse: An der Rüsternbreite\, 06366 Köthen\n
LOCATION:Heinz-Fricke-SH Köthen (3086): An der Rüsternbreite\, 06366 Köthen
CATEGORIES:Saison 2025/26
END:VEVENT
BEGIN:VEVENT
DTSTAMP:20260425T224033Z
DTSTART;TZID=Europe/Berlin:20260425T153000
DTEND;TZID=Europe/Berlin:20260425T163000
SUMMARY:männliche D-Jugend Oberliga HG 85 Köthen vs HT 1861 Halberstadt (7086)
UID:aec3e813-6b1a-44c8-ab88-27447f71bb79
STATUS:CONFIRMED
DESCRIPTION:männliche D-Jugend Oberliga\nBegegnungs-Nr: 7086\nHeim: HG 85 Köthen\nGast: HT 1861 Halberstadt\nHalle: Heinz-Fricke-SH Köthen (3086)\nAdresse: An der Rüsternbreite\, 06366 Köthen\n
LOCATION:Heinz-Fricke-SH Köthen (3086): An der Rüsternbreite\, 06366 Köthen
CATEGORIES:Saison 2025/26
END:VEVENT
BEGIN:VEVENT
DTSTAMP:20260425T224033Z
DTSTART;TZID=Europe/Berlin:20260321T160000
DTEND;TZID=Europe/Berlin:20260321T170000
SUMMARY:männliche D-Jugend Oberliga HG 85 Köthen vs SG Kühnau  (7080)
UID:1b604bb8-03dc-45c2-999a-156bc4980bd4
STATUS:CONFIRMED
LAST-MODIFIED:20260322T092326Z
DESCRIPTION:männliche D-Jugend Oberliga\nBegegnungs-Nr: 7080\nHeim: HG 85 Köthen\nGast: SG Kühnau \nHalle: Heinz-Fricke-SH Köthen (3086)\nAdresse: An der Rüsternbreite\, 06366 Köthen\n
LOCATION:Heinz-Fricke-SH Köthen (3086): An der Rüsternbreite\, 06366 Köthen
CATEGORIES:Saison 2025/26
END:VEVENT
BEGIN:VEVENT
DTSTAMP:20260425T224033Z
DTSTART;TZID=Europe/Berlin:20260314T144500
DTEND;TZID=Europe/Berlin:20260314T154500
SUMMARY:männliche D-Jugend Oberliga HG 85 Köthen vs FSV 1895 Magdeburg  (7074)
UID:b3e1dba5-f1c6-4d9c-a86a-6d80eca700fe
STATUS:CONFIRMED
LAST-MODIFIED:20260315T102000Z
DESCRIPTION:männliche D-Jugend Oberliga\nBegegnungs-Nr: 7074\nHeim: HG 85 Köthen\nGast: FSV 1895 Magdeburg \nHalle: Heinz-Fricke-SH Köthen (3086)\nAdresse: An der Rüsternbreite\, 06366 Köthen\n
LOCATION:Heinz-Fricke-SH Köthen (3086): An der Rüsternbreite\, 06366 Köthen
CATEGORIES:Saison 2025/26
END:VEVENT
BEGIN:VEVENT
DTSTAMP:20260425T224033Z
DTSTART;TZID=Europe/Berlin:20260221T144500
DTEND;TZID=Europe/Berlin:20260221T154500
SUMMARY:männliche D-Jugend Oberliga HG 85 Köthen vs SC Magdeburg (7063)
UID:28dca8e5-dc64-432e-b92c-1014e3e850c4
STATUS:CONFIRMED
LAST-MODIFIED:20260222T091935Z
DESCRIPTION:männliche D-Jugend Oberliga\nBegegnungs-Nr: 7063\nHeim: HG 85 Köthen\nGast: SC Magdeburg\nHalle: Heinz-Fricke-SH Köthen (3086)\nAdresse: An der Rüsternbreite\, 06366 Köthen\n
LOCATION:Heinz-Fricke-SH Köthen (3086): An der Rüsternbreite\, 06366 Köthen
CATEGORIES:Saison 2025/26
END:VEVENT
BEGIN:VEVENT
DTSTAMP:20260425T224033Z
DTSTART;TZID=Europe/Berlin:20260124T144500
DTEND;TZID=Europe/Berlin:20260124T154500
SUMMARY:männliche D-Jugend Oberliga HG 85 Köthen vs HV R-W Staßfurt (7052)
UID:a8b562c7-632e-47bb-b0e8-aafe55ca5c34
STATUS:CONFIRMED
LAST-MODIFIED:20260125T105139Z
DESCRIPTION:männliche D-Jugend Oberliga\nBegegnungs-Nr: 7052\nHeim: HG 85 Köthen\nGast: HV R-W Staßfurt\nHalle: Heinz-Fricke-SH Köthen (3086)\nAdresse: An der Rüsternbreite\, 06366 Köthen\n
LOCATION:Heinz-Fricke-SH Köthen (3086): An der Rüsternbreite\, 06366 Köthen
CATEGORIES:Saison 2025/26
END:VEVENT
BEGIN:VEVENT
DTSTAMP:20260425T224033Z
DTSTART;TZID=Europe/Berlin:20251129T150000
DTEND;TZID=Europe/Berlin:20251129T160000
SUMMARY:männliche D-Jugend Oberliga HG 85 Köthen vs TSV Wefensleben (7040)
UID:31f9a0a6-6944-435a-bf76-abcffd2c106a
STATUS:CONFIRMED
LAST-MODIFIED:20251201T092149Z
DESCRIPTION:männliche D-Jugend Oberliga\nBegegnungs-Nr: 7040\nHeim: HG 85 Köthen\nGast: TSV Wefensleben\nHalle: Heinz-Fricke-SH Köthen (3086)\nAdresse: An der Rüsternbreite\, 06366 Köthen\n
LOCATION:Heinz-Fricke-SH Köthen (3086): An der Rüsternbreite\, 06366 Köthen
CATEGORIES:Saison 2025/26
END:VEVENT
BEGIN:VEVENT
DTSTAMP:20260425T224033Z
DTSTART;TZID=Europe/Berlin:20251218T180000
DTEND;TZID=Europe/Berlin:20251218T190000
SUMMARY:männliche D-Jugend Oberliga SG Kühnau  vs HG 85 Köthen (7035)
UID:0247baf8-3b63-4888-9940-0ac56bc76a93
STATUS:CONFIRMED
LAST-MODIFIED:20251220T181744Z
DESCRIPTION:männliche D-Jugend Oberliga\nBegegnungs-Nr: 7035\nHeim: SG Kühnau \nGast: HG 85 Köthen\nHalle: SH Friedensschule Dessau (3030)\nAdresse: Elballee\, 06846 Dessau-Roßlau / OT Ziebigk\n
LOCATION:SH Friedensschule Dessau (3030): Elballee\, 06846 Dessau-Roßlau / OT Ziebigk
CATEGORIES:Saison 2025/26
END:VEVENT
BEGIN:VEVENT
DTSTAMP:20260425T224033Z
DTSTART;TZID=Europe/Berlin:20251108T120000
DTEND;TZID=Europe/Berlin:20251108T130000
SUMMARY:männliche D-Jugend Oberliga FSV 1895 Magdeburg  vs HG 85 Köthen (7029)
UID:b19acafa-745d-48fa-be6f-280415e4a6d5
STATUS:CONFIRMED
LAST-MODIFIED:20251116T102405Z
DESCRIPTION:männliche D-Jugend Oberliga\nBegegnungs-Nr: 7029\nHeim: FSV 1895 Magdeburg \nGast: HG 85 Köthen\nHalle: SH der Freundschaft Magd. (1096)\nAdresse: Platz der Freundschaft \, 39122 Magdeburg\n
LOCATION:SH der Freundschaft Magd. (1096): Platz der Freundschaft \, 39122 Magdeburg
CATEGORIES:Saison 2025/26
END:VEVENT
BEGIN:VEVENT
DTSTAMP:20260425T224033Z
DTSTART;TZID=Europe/Berlin:20250927T100000
DTEND;TZID=Europe/Berlin:20250927T110000
SUMMARY:männliche D-Jugend Oberliga SC Magdeburg vs HG 85 Köthen (7018)
UID:71f4da1e-7e71-4340-91a3-5e82027fd8c3
STATUS:CONFIRMED
LAST-MODIFIED:20250928T115548Z
DESCRIPTION:männliche D-Jugend Oberliga\nBegegnungs-Nr: 7018\nHeim: SC Magdeburg\nGast: HG 85 Köthen\nHalle: Wolfgang-Lakenmacher-Halle (1106)\nAdresse: An der Steinkuhle 4\, 39128 Magdeburg\n
LOCATION:Wolfgang-Lakenmacher-Halle (1106): An der Steinkuhle 4\, 39128 Magdeburg
CATEGORIES:Saison 2025/26
END:VEVENT
BEGIN:VEVENT
DTSTAMP:20260425T224033Z
DTSTART;TZID=Europe/Berlin:20250913T114500
DTEND;TZID=Europe/Berlin:20250913T124500
SUMMARY:männliche D-Jugend Oberliga HV R-W Staßfurt vs HG 85 Köthen (7007)
UID:f78dedc5-7480-45e3-9c27-9c3d5bf4d13e
STATUS:CONFIRMED
LAST-MODIFIED:20250914T110239Z
DESCRIPTION:männliche D-Jugend Oberliga\nBegegnungs-Nr: 7007\nHeim: HV R-W Staßfurt\nGast: HG 85 Köthen\nHalle: Salzland-Sporthalle (2156)\nAdresse: Gänsefurther Straße 24\, 39418  Staßfurt\n
LOCATION:Salzland-Sporthalle (2156): Gänsefurther Straße 24\, 39418  Staßfurt
CATEGORIES:Saison 2025/26
END:VEVENT
BEGIN:VEVENT
DTSTAMP:20260425T224033Z
DTSTART;TZID=Europe/Berlin:20260418T150000
DTEND;TZID=Europe/Berlin:20260418T160000
SUMMARY:männliche D-Jugend Oberliga TSV Wefensleben vs HG 85 Köthen (7085)
UID:93ad10bb-1641-49b0-b660-74d8a929e47b
STATUS:CONFIRMED
LAST-MODIFIED:20260419T081319Z
DESCRIPTION:männliche D-Jugend Oberliga\nBegegnungs-Nr: 7085\nHeim: TSV Wefensleben\nGast: HG 85 Köthen\nHalle: SH Beendorf (1053)\nAdresse: Rundahlsweg\, 39343 Beendorf\n
LOCATION:SH Beendorf (1053): Rundahlsweg\, 39343 Beendorf
CATEGORIES:Saison 2025/26
END:VEVENT
BEGIN:VEVENT
DTSTAMP:20260425T224033Z
DTSTART;TZID=Europe/Berlin:20260301T120000
DTEND;TZID=Europe/Berlin:20260301T130000
SUMMARY:männliche D-Jugend Oberliga SV Eiche 05 Biederitz  vs HG 85 Köthen (7070)
UID:e242e134-674a-4bd3-87f8-4480d54666b4
STATUS:CONFIRMED
LAST-MODIFIED:20260301T163405Z
DESCRIPTION:männliche D-Jugend Oberliga\nBegegnungs-Nr: 7070\nHeim: SV Eiche 05 Biederitz \nGast: HG 85 Köthen\nHalle: Biederitzer Ehlesporthalle (1019)\nAdresse: Schillerstraße\, 39175 Biederitz\n
LOCATION:Biederitzer Ehlesporthalle (1019): Schillerstraße\, 39175 Biederitz
CATEGORIES:Saison 2025/26
END:VEVENT
BEGIN:VEVENT
DTSTAMP:20260425T224033Z
DTSTART;TZID=Europe/Berlin:20260308T120000
DTEND;TZID=Europe/Berlin:20260308T130000
SUMMARY:männliche D-Jugend Oberliga BSV 93 Magdeburg vs HG 85 Köthen (7060)
UID:61ce958e-2a46-4449-b8e3-14d44db2f077
STATUS:CONFIRMED
LAST-MODIFIED:20260309T085814Z
DESCRIPTION:männliche D-Jugend Oberliga\nBegegnungs-Nr: 7060\nHeim: BSV 93 Magdeburg\nGast: HG 85 Köthen\nHalle: SH Albert-Einstein-Gymn. Magdeburg (1101)\nAdresse: Olvenstedter Graseweg 36\, 39128 Magdeburg\n
LOCATION:SH Albert-Einstein-Gymn. Magdeburg (1101): Olvenstedter Graseweg 36\, 39128 Magdeburg
CATEGORIES:Saison 2025/26
END:VEVENT
BEGIN:VEVENT
DTSTAMP:20260425T224033Z
DTSTART;TZID=Europe/Berlin:20260411T140000
DTEND;TZID=Europe/Berlin:20260411T150000
SUMMARY:männliche D-Jugend Oberliga USV Halle vs HG 85 Köthen (7050)
UID:8b486117-833a-4411-837d-65a49c0f8dc9
STATUS:CONFIRMED
LAST-MODIFIED:20260419T073706Z
DESCRIPTION:männliche D-Jugend Oberliga\nBegegnungs-Nr: 7050\nHeim: USV Halle\nGast: HG 85 Köthen\nHalle: SH im Bildungszentrum Halle Neustadt (4121)\nAdresse: Nietlebener Straße 14\, 06126 Halle\n
LOCATION:SH im Bildungszentrum Halle Neustadt (4121): Nietlebener Straße 14\, 06126 Halle
CATEGORIES:Saison 2025/26
END:VEVENT
BEGIN:VEVENT
DTSTAMP:20260425T224033Z
DTSTART;TZID=Europe/Berlin:20260130T153000
DTEND;TZID=Europe/Berlin:20260130T163000
SUMMARY:männliche D-Jugend Oberliga HT 1861 Halberstadt vs HG 85 Köthen (7041)
UID:3302d9e7-9894-418f-897c-3e6fe0d387fe
STATUS:CONFIRMED
LAST-MODIFIED:20260201T100929Z
DESCRIPTION:männliche D-Jugend Oberliga\nBegegnungs-Nr: 7041\nHeim: HT 1861 Halberstadt\nGast: HG 85 Köthen\nHalle: SH Völkerfreundschaft Halberstadt (2042)\nAdresse: Paulsplan 6\, 38820 Halberstadt\n
LOCATION:SH Völkerfreundschaft Halberstadt (2042): Paulsplan 6\, 38820 Halberstadt
CATEGORIES:Saison 2025/26
END:VEVENT
END:VCALENDAR
