BEGIN:VCALENDAR
PRODID:-//nuDatenautomaten//framework iCal4j //DE
VERSION:2.0
CALSCALE:GREGORIAN
BEGIN:VTIMEZONE
TZID:Europe/Berlin
LAST-MODIFIED:20260306T231828Z
TZURL:https://www.tzurl.org/zoneinfo/Europe/Berlin
X-LIC-LOCATION:Europe/Berlin
X-PROLEPTIC-TZNAME:LMT
BEGIN:STANDARD
TZNAME:CET
TZOFFSETFROM:+005328
TZOFFSETTO:+0100
DTSTART:18930401T000000
END:STANDARD
BEGIN:DAYLIGHT
TZNAME:CEST
TZOFFSETFROM:+0100
TZOFFSETTO:+0200
DTSTART:19160430T230000
RDATE:19400401T020000
RDATE:19430329T020000
RDATE:19460414T020000
RDATE:19470406T030000
RDATE:19480418T020000
RDATE:19490410T020000
RDATE:19800406T020000
END:DAYLIGHT
BEGIN:STANDARD
TZNAME:CET
TZOFFSETFROM:+0200
TZOFFSETTO:+0100
DTSTART:19161001T010000
RDATE:19421102T030000
RDATE:19431004T030000
RDATE:19441002T030000
RDATE:19451118T030000
RDATE:19461007T030000
END:STANDARD
BEGIN:DAYLIGHT
TZNAME:CEST
TZOFFSETFROM:+0100
TZOFFSETTO:+0200
DTSTART:19170416T020000
RRULE:FREQ=YEARLY;UNTIL=19180415T010000Z;BYMONTH=4;BYDAY=3MO
END:DAYLIGHT
BEGIN:STANDARD
TZNAME:CET
TZOFFSETFROM:+0200
TZOFFSETTO:+0100
DTSTART:19170917T030000
RRULE:FREQ=YEARLY;UNTIL=19180916T010000Z;BYMONTH=9;BYDAY=3MO
END:STANDARD
BEGIN:DAYLIGHT
TZNAME:CEST
TZOFFSETFROM:+0100
TZOFFSETTO:+0200
DTSTART:19440403T020000
RRULE:FREQ=YEARLY;UNTIL=19450402T010000Z;BYMONTH=4;BYDAY=1MO
END:DAYLIGHT
BEGIN:DAYLIGHT
TZNAME:CEMT
TZOFFSETFROM:+0200
TZOFFSETTO:+0300
DTSTART:19450524T020000
RDATE:19470511T030000
END:DAYLIGHT
BEGIN:DAYLIGHT
TZNAME:CEST
TZOFFSETFROM:+0300
TZOFFSETTO:+0200
DTSTART:19450924T030000
RDATE:19470629T030000
END:DAYLIGHT
BEGIN:STANDARD
TZNAME:CET
TZOFFSETFROM:+0100
TZOFFSETTO:+0100
DTSTART:19460101T000000
RDATE:19800101T000000
END:STANDARD
BEGIN:STANDARD
TZNAME:CET
TZOFFSETFROM:+0200
TZOFFSETTO:+0100
DTSTART:19471005T030000
RRULE:FREQ=YEARLY;UNTIL=19491002T010000Z;BYMONTH=10;BYDAY=1SU
END:STANDARD
BEGIN:STANDARD
TZNAME:CET
TZOFFSETFROM:+0200
TZOFFSETTO:+0100
DTSTART:19800928T030000
RRULE:FREQ=YEARLY;UNTIL=19950924T010000Z;BYMONTH=9;BYDAY=-1SU
END:STANDARD
BEGIN:DAYLIGHT
TZNAME:CEST
TZOFFSETFROM:+0100
TZOFFSETTO:+0200
DTSTART:19810329T020000
RRULE:FREQ=YEARLY;BYMONTH=3;BYDAY=-1SU
END:DAYLIGHT
BEGIN:STANDARD
TZNAME:CET
TZOFFSETFROM:+0200
TZOFFSETTO:+0100
DTSTART:19961027T030000
RRULE:FREQ=YEARLY;BYMONTH=10;BYDAY=-1SU
END:STANDARD
END:VTIMEZONE
BEGIN:VEVENT
DTSTAMP:20260424T050147Z
DTSTART;TZID=Europe/Berlin:20260321T130000
DTEND;TZID=Europe/Berlin:20260321T140000
SUMMARY:AOLMJC SG Kühnau  vs TuS Radis (2537)
UID:007cc2b5-08e6-4aee-94d7-1be382b6ab99
STATUS:CONFIRMED
LAST-MODIFIED:20260322T010742Z
DESCRIPTION:männliche C-Jugend Bezirksoberliga\nBegegnungs-Nr: 2537\nHeim: SG Kühnau \nGast: TuS Radis\nHalle: SH Friedensschule Dessau (3030)\nAdresse: Elballee\, 06846 Dessau-Roßlau / OT Ziebigk\n
LOCATION:SH Friedensschule Dessau (3030): Elballee\, 06846 Dessau-Roßlau / OT Ziebigk
CATEGORIES:Saison 2025/26
END:VEVENT
BEGIN:VEVENT
DTSTAMP:20260424T050147Z
DTSTART;TZID=Europe/Berlin:20250920T100000
DTEND;TZID=Europe/Berlin:20250920T110000
SUMMARY:AOLMJC SG Kühnau  vs HG 85 Köthen (2504)
UID:ae042a7c-5e8e-4183-8d86-c03b9c9d4827
STATUS:CONFIRMED
LAST-MODIFIED:20250923T172436Z
DESCRIPTION:männliche C-Jugend Bezirksoberliga\nBegegnungs-Nr: 2504\nHeim: SG Kühnau \nGast: HG 85 Köthen\nHalle: SH Friedensschule Dessau (3030)\nAdresse: Elballee\, 06846 Dessau-Roßlau / OT Ziebigk\n
LOCATION:SH Friedensschule Dessau (3030): Elballee\, 06846 Dessau-Roßlau / OT Ziebigk
CATEGORIES:Saison 2025/26
END:VEVENT
BEGIN:VEVENT
DTSTAMP:20260424T050147Z
DTSTART;TZID=Europe/Berlin:20260425T123000
DTEND;TZID=Europe/Berlin:20260425T133000
SUMMARY:AOLMJC SG Kühnau  vs SV Blau-Rot Coswig  (2543)
UID:77457a1b-be52-4398-bca7-31fff88cf00b
STATUS:CONFIRMED
DESCRIPTION:männliche C-Jugend Bezirksoberliga\nBegegnungs-Nr: 2543\nHeim: SG Kühnau \nGast: SV Blau-Rot Coswig \nHalle: SH Friedensschule Dessau (3030)\nAdresse: Elballee\, 06846 Dessau-Roßlau / OT Ziebigk\n
LOCATION:SH Friedensschule Dessau (3030): Elballee\, 06846 Dessau-Roßlau / OT Ziebigk
CATEGORIES:Saison 2025/26
END:VEVENT
BEGIN:VEVENT
DTSTAMP:20260424T050147Z
DTSTART;TZID=Europe/Berlin:20251031T154500
DTEND;TZID=Europe/Berlin:20251031T164500
SUMMARY:AOLMJC SG Kühnau  vs TuS Radis (2507)
UID:b65dea28-bf81-4511-bdbb-0d847b1546f0
STATUS:CONFIRMED
LAST-MODIFIED:20251111T194413Z
DESCRIPTION:männliche C-Jugend Bezirksoberliga\nBegegnungs-Nr: 2507\nHeim: SG Kühnau \nGast: TuS Radis\nHalle: SH Friedensschule Dessau (3030)\nAdresse: Elballee\, 06846 Dessau-Roßlau / OT Ziebigk\n
LOCATION:SH Friedensschule Dessau (3030): Elballee\, 06846 Dessau-Roßlau / OT Ziebigk
CATEGORIES:Saison 2025/26
END:VEVENT
BEGIN:VEVENT
DTSTAMP:20260424T050147Z
DTSTART;TZID=Europe/Berlin:20251109T130000
DTEND;TZID=Europe/Berlin:20251109T140000
SUMMARY:AOLMJC SG Kühnau  vs SV Blau-Rot Coswig  (2513)
UID:999d7749-0392-4aca-9ec0-854b8dd13b41
STATUS:CONFIRMED
LAST-MODIFIED:20251205T091130Z
DESCRIPTION:männliche C-Jugend Bezirksoberliga\nBegegnungs-Nr: 2513\nHeim: SG Kühnau \nGast: SV Blau-Rot Coswig \nHalle: SH Friedensschule Dessau (3030)\nAdresse: Elballee\, 06846 Dessau-Roßlau / OT Ziebigk\n
LOCATION:SH Friedensschule Dessau (3030): Elballee\, 06846 Dessau-Roßlau / OT Ziebigk
CATEGORIES:Saison 2025/26
END:VEVENT
BEGIN:VEVENT
DTSTAMP:20260424T050147Z
DTSTART;TZID=Europe/Berlin:20251130T113000
DTEND;TZID=Europe/Berlin:20251130T123000
SUMMARY:AOLMJC SG Kühnau  vs HSG Wolfen 2000 (2515)
UID:b01a1e73-c301-4e73-ba0f-f4432fc440cf
STATUS:CONFIRMED
LAST-MODIFIED:20251205T091740Z
DESCRIPTION:männliche C-Jugend Bezirksoberliga\nBegegnungs-Nr: 2515\nHeim: SG Kühnau \nGast: HSG Wolfen 2000\nHalle: SH Friedensschule Dessau (3030)\nAdresse: Elballee\, 06846 Dessau-Roßlau / OT Ziebigk\n
LOCATION:SH Friedensschule Dessau (3030): Elballee\, 06846 Dessau-Roßlau / OT Ziebigk
CATEGORIES:Saison 2025/26
END:VEVENT
BEGIN:VEVENT
DTSTAMP:20260424T050147Z
DTSTART;TZID=Europe/Berlin:20260418T103000
DTEND;TZID=Europe/Berlin:20260418T113000
SUMMARY:AOLMJC SG Kühnau  vs Jessener SV 53 (2525)
UID:ce851dc2-2039-45e6-a11b-282a0a464398
STATUS:CONFIRMED
LAST-MODIFIED:20260322T010518Z
DESCRIPTION:männliche C-Jugend Bezirksoberliga\nBegegnungs-Nr: 2525\nHeim: SG Kühnau \nGast: Jessener SV 53\nHalle: SH Friedensschule Dessau (3030)\nAdresse: Elballee\, 06846 Dessau-Roßlau / OT Ziebigk\n
LOCATION:SH Friedensschule Dessau (3030): Elballee\, 06846 Dessau-Roßlau / OT Ziebigk
CATEGORIES:Saison 2025/26
END:VEVENT
BEGIN:VEVENT
DTSTAMP:20260424T050147Z
DTSTART;TZID=Europe/Berlin:20260308T120000
DTEND;TZID=Europe/Berlin:20260308T130000
SUMMARY:AOLMJC SG Kühnau  vs HG 85 Köthen (2534)
UID:2619f158-54d4-4ce8-a98b-18984183441a
STATUS:CONFIRMED
LAST-MODIFIED:20260322T010621Z
DESCRIPTION:männliche C-Jugend Bezirksoberliga\nBegegnungs-Nr: 2534\nHeim: SG Kühnau \nGast: HG 85 Köthen\nHalle: SH Friedensschule Dessau (3030)\nAdresse: Elballee\, 06846 Dessau-Roßlau / OT Ziebigk\n
LOCATION:SH Friedensschule Dessau (3030): Elballee\, 06846 Dessau-Roßlau / OT Ziebigk
CATEGORIES:Saison 2025/26
END:VEVENT
BEGIN:VEVENT
DTSTAMP:20260424T050147Z
DTSTART;TZID=Europe/Berlin:20260411T140000
DTEND;TZID=Europe/Berlin:20260411T150000
SUMMARY:AOLMJC Jessener SV 53 vs SG Kühnau  (2540)
UID:ae263bc3-7517-4cf0-bee5-9a03df87ba0e
STATUS:CONFIRMED
LAST-MODIFIED:20260417T083818Z
DESCRIPTION:männliche C-Jugend Bezirksoberliga\nBegegnungs-Nr: 2540\nHeim: Jessener SV 53\nGast: SG Kühnau \nHalle: SH Nordschule Jessen (3074)\nAdresse: Straße der Jugend 9\, 06917 Jessen\n
LOCATION:SH Nordschule Jessen (3074): Straße der Jugend 9\, 06917 Jessen
CATEGORIES:Saison 2025/26
END:VEVENT
BEGIN:VEVENT
DTSTAMP:20260424T050147Z
DTSTART;TZID=Europe/Berlin:20250907T160000
DTEND;TZID=Europe/Berlin:20250907T170000
SUMMARY:AOLMJC HSG Wolfen 2000 vs SG Kühnau  (2500)
UID:abc30e2a-3d51-42d7-9690-7eee723cfa78
STATUS:CONFIRMED
LAST-MODIFIED:20250917T180936Z
DESCRIPTION:männliche C-Jugend Bezirksoberliga\nBegegnungs-Nr: 2500\nHeim: HSG Wolfen 2000\nGast: SG Kühnau \nHalle: SH BSZ August von Parseval Bitterfeld (3011)\nAdresse: Parseval-Straße 2\, 06749 Bitterfeld\n
LOCATION:SH BSZ August von Parseval Bitterfeld (3011): Parseval-Straße 2\, 06749 Bitterfeld
CATEGORIES:Saison 2025/26
END:VEVENT
BEGIN:VEVENT
DTSTAMP:20260424T050147Z
DTSTART;TZID=Europe/Berlin:20251206T100000
DTEND;TZID=Europe/Berlin:20251206T110000
SUMMARY:AOLMJC HG 85 Köthen vs SG Kühnau  (2519)
UID:d20edf35-d448-44f7-9d36-0dd82146cfd2
STATUS:CONFIRMED
LAST-MODIFIED:20260107T165513Z
DESCRIPTION:männliche C-Jugend Bezirksoberliga\nBegegnungs-Nr: 2519\nHeim: HG 85 Köthen\nGast: SG Kühnau \nHalle: Heinz-Fricke-SH Köthen (3086)\nAdresse: An der Rüsternbreite\, 06366 Köthen\n
LOCATION:Heinz-Fricke-SH Köthen (3086): An der Rüsternbreite\, 06366 Köthen
CATEGORIES:Saison 2025/26
END:VEVENT
BEGIN:VEVENT
DTSTAMP:20260424T050147Z
DTSTART;TZID=Europe/Berlin:20260117T141500
DTEND;TZID=Europe/Berlin:20260117T151500
SUMMARY:AOLMJC TuS Radis vs SG Kühnau  (2522)
UID:56d656bf-c699-4533-adf2-53d2addf999d
STATUS:CONFIRMED
LAST-MODIFIED:20260118T041239Z
DESCRIPTION:männliche C-Jugend Bezirksoberliga\nBegegnungs-Nr: 2522\nHeim: TuS Radis\nGast: SG Kühnau \nHalle: SH Gräfenhainichen (3040)\nAdresse: Lindenallee\, 06773 Gräfenhainichen\n
LOCATION:SH Gräfenhainichen (3040): Lindenallee\, 06773 Gräfenhainichen
CATEGORIES:Saison 2025/26
END:VEVENT
BEGIN:VEVENT
DTSTAMP:20260424T050147Z
DTSTART;TZID=Europe/Berlin:20251102T110000
DTEND;TZID=Europe/Berlin:20251102T120000
SUMMARY:AOLMJC Jessener SV 53 vs SG Kühnau  (2510)
UID:7d153421-e674-45d9-9264-27b9bd35d953
STATUS:CONFIRMED
LAST-MODIFIED:20251111T194459Z
DESCRIPTION:männliche C-Jugend Bezirksoberliga\nBegegnungs-Nr: 2510\nHeim: Jessener SV 53\nGast: SG Kühnau \nHalle: SH Nordschule Jessen (3074)\nAdresse: Straße der Jugend 9\, 06917 Jessen\n
LOCATION:SH Nordschule Jessen (3074): Straße der Jugend 9\, 06917 Jessen
CATEGORIES:Saison 2025/26
END:VEVENT
BEGIN:VEVENT
DTSTAMP:20260424T050147Z
DTSTART;TZID=Europe/Berlin:20260214T103000
DTEND;TZID=Europe/Berlin:20260214T113000
SUMMARY:AOLMJC SV Blau-Rot Coswig  vs SG Kühnau  (2528)
UID:19da9484-097e-4247-90f2-11cc3eb61d49
STATUS:CONFIRMED
LAST-MODIFIED:20260216T174340Z
DESCRIPTION:männliche C-Jugend Bezirksoberliga\nBegegnungs-Nr: 2528\nHeim: SV Blau-Rot Coswig \nGast: SG Kühnau \nHalle: Stadt-SH Coswig (3136)\nAdresse: Antonienhüttenweg 16\, 06869 Coswig\n
LOCATION:Stadt-SH Coswig (3136): Antonienhüttenweg 16\, 06869 Coswig
CATEGORIES:Saison 2025/26
END:VEVENT
BEGIN:VEVENT
DTSTAMP:20260424T050147Z
DTSTART;TZID=Europe/Berlin:20260221T140000
DTEND;TZID=Europe/Berlin:20260221T150000
SUMMARY:AOLMJC HSG Wolfen 2000 vs SG Kühnau  (2530)
UID:94a142ae-7ab5-4032-bcb1-eee1f15fa534
STATUS:CONFIRMED
LAST-MODIFIED:20260221T235228Z
DESCRIPTION:männliche C-Jugend Bezirksoberliga\nBegegnungs-Nr: 2530\nHeim: HSG Wolfen 2000\nGast: SG Kühnau \nHalle: SH BSZ August von Parseval Bitterfeld (3011)\nAdresse: Parseval-Straße 2\, 06749 Bitterfeld\n
LOCATION:SH BSZ August von Parseval Bitterfeld (3011): Parseval-Straße 2\, 06749 Bitterfeld
CATEGORIES:Saison 2025/26
END:VEVENT
END:VCALENDAR
