BEGIN:VCALENDAR
PRODID:-//nuDatenautomaten//framework iCal4j //DE
VERSION:2.0
CALSCALE:GREGORIAN
BEGIN:VTIMEZONE
TZID:Europe/Berlin
LAST-MODIFIED:20260306T231828Z
TZURL:https://www.tzurl.org/zoneinfo/Europe/Berlin
X-LIC-LOCATION:Europe/Berlin
X-PROLEPTIC-TZNAME:LMT
BEGIN:STANDARD
TZNAME:CET
TZOFFSETFROM:+005328
TZOFFSETTO:+0100
DTSTART:18930401T000000
END:STANDARD
BEGIN:DAYLIGHT
TZNAME:CEST
TZOFFSETFROM:+0100
TZOFFSETTO:+0200
DTSTART:19160430T230000
RDATE:19400401T020000
RDATE:19430329T020000
RDATE:19460414T020000
RDATE:19470406T030000
RDATE:19480418T020000
RDATE:19490410T020000
RDATE:19800406T020000
END:DAYLIGHT
BEGIN:STANDARD
TZNAME:CET
TZOFFSETFROM:+0200
TZOFFSETTO:+0100
DTSTART:19161001T010000
RDATE:19421102T030000
RDATE:19431004T030000
RDATE:19441002T030000
RDATE:19451118T030000
RDATE:19461007T030000
END:STANDARD
BEGIN:DAYLIGHT
TZNAME:CEST
TZOFFSETFROM:+0100
TZOFFSETTO:+0200
DTSTART:19170416T020000
RRULE:FREQ=YEARLY;UNTIL=19180415T010000Z;BYMONTH=4;BYDAY=3MO
END:DAYLIGHT
BEGIN:STANDARD
TZNAME:CET
TZOFFSETFROM:+0200
TZOFFSETTO:+0100
DTSTART:19170917T030000
RRULE:FREQ=YEARLY;UNTIL=19180916T010000Z;BYMONTH=9;BYDAY=3MO
END:STANDARD
BEGIN:DAYLIGHT
TZNAME:CEST
TZOFFSETFROM:+0100
TZOFFSETTO:+0200
DTSTART:19440403T020000
RRULE:FREQ=YEARLY;UNTIL=19450402T010000Z;BYMONTH=4;BYDAY=1MO
END:DAYLIGHT
BEGIN:DAYLIGHT
TZNAME:CEMT
TZOFFSETFROM:+0200
TZOFFSETTO:+0300
DTSTART:19450524T020000
RDATE:19470511T030000
END:DAYLIGHT
BEGIN:DAYLIGHT
TZNAME:CEST
TZOFFSETFROM:+0300
TZOFFSETTO:+0200
DTSTART:19450924T030000
RDATE:19470629T030000
END:DAYLIGHT
BEGIN:STANDARD
TZNAME:CET
TZOFFSETFROM:+0100
TZOFFSETTO:+0100
DTSTART:19460101T000000
RDATE:19800101T000000
END:STANDARD
BEGIN:STANDARD
TZNAME:CET
TZOFFSETFROM:+0200
TZOFFSETTO:+0100
DTSTART:19471005T030000
RRULE:FREQ=YEARLY;UNTIL=19491002T010000Z;BYMONTH=10;BYDAY=1SU
END:STANDARD
BEGIN:STANDARD
TZNAME:CET
TZOFFSETFROM:+0200
TZOFFSETTO:+0100
DTSTART:19800928T030000
RRULE:FREQ=YEARLY;UNTIL=19950924T010000Z;BYMONTH=9;BYDAY=-1SU
END:STANDARD
BEGIN:DAYLIGHT
TZNAME:CEST
TZOFFSETFROM:+0100
TZOFFSETTO:+0200
DTSTART:19810329T020000
RRULE:FREQ=YEARLY;BYMONTH=3;BYDAY=-1SU
END:DAYLIGHT
BEGIN:STANDARD
TZNAME:CET
TZOFFSETFROM:+0200
TZOFFSETTO:+0100
DTSTART:19961027T030000
RRULE:FREQ=YEARLY;BYMONTH=10;BYDAY=-1SU
END:STANDARD
END:VTIMEZONE
BEGIN:VEVENT
DTSTAMP:20260425T152331Z
DTSTART;TZID=Europe/Berlin:20260418T190000
DTEND;TZID=Europe/Berlin:20260418T203000
SUMMARY:AOLFr DRHV 06 II vs HSG Wolfen 2000 (3087)
UID:471e0552-b0de-4852-9239-85f92176b5fa
STATUS:CONFIRMED
LAST-MODIFIED:20260423T093546Z
DESCRIPTION:Frauen Bezirksoberliga\nBegegnungs-Nr: 3087\nHeim: DRHV 06 II\nGast: HSG Wolfen 2000\nHalle: Anhalt-Arena Dessau (3027)\nAdresse: An der Robert-Bosch-Straße 54\, 06847 Dessau-Roßlau / OT Alten\n
LOCATION:Anhalt-Arena Dessau (3027): An der Robert-Bosch-Straße 54\, 06847 Dessau-Roßlau / OT Alten
CATEGORIES:Saison 2025/26
END:VEVENT
BEGIN:VEVENT
DTSTAMP:20260425T152331Z
DTSTART;TZID=Europe/Berlin:20260314T170000
DTEND;TZID=Europe/Berlin:20260314T183000
SUMMARY:AOLFr DRHV 06 II vs SG Kühnau  (3075)
UID:48232e00-617d-4fcb-972c-b7cc30c837e7
STATUS:CONFIRMED
LAST-MODIFIED:20260319T112903Z
DESCRIPTION:Frauen Bezirksoberliga\nBegegnungs-Nr: 3075\nHeim: DRHV 06 II\nGast: SG Kühnau \nHalle: Anhalt-Arena Dessau (3027)\nAdresse: An der Robert-Bosch-Straße 54\, 06847 Dessau-Roßlau / OT Alten\n
LOCATION:Anhalt-Arena Dessau (3027): An der Robert-Bosch-Straße 54\, 06847 Dessau-Roßlau / OT Alten
CATEGORIES:Saison 2025/26
END:VEVENT
BEGIN:VEVENT
DTSTAMP:20260425T152331Z
DTSTART;TZID=Europe/Berlin:20260221T143000
DTEND;TZID=Europe/Berlin:20260221T160000
SUMMARY:AOLFr DRHV 06 II vs HSV 2000 Zerbst (3064)
UID:079a72fa-a2d4-4731-917f-7094ca6fc771
STATUS:CONFIRMED
LAST-MODIFIED:20260224T094415Z
DESCRIPTION:Frauen Bezirksoberliga\nBegegnungs-Nr: 3064\nHeim: DRHV 06 II\nGast: HSV 2000 Zerbst\nHalle: Anhalt-Arena Dessau (3027)\nAdresse: An der Robert-Bosch-Straße 54\, 06847 Dessau-Roßlau / OT Alten\n
LOCATION:Anhalt-Arena Dessau (3027): An der Robert-Bosch-Straße 54\, 06847 Dessau-Roßlau / OT Alten
CATEGORIES:Saison 2025/26
END:VEVENT
BEGIN:VEVENT
DTSTAMP:20260425T152331Z
DTSTART;TZID=Europe/Berlin:20251129T143000
DTEND;TZID=Europe/Berlin:20251129T160000
SUMMARY:AOLFr DRHV 06 II vs SV Finken Raguhn (3036)
UID:fdff87b8-4516-4e36-b96c-c997d8edc61d
STATUS:CONFIRMED
LAST-MODIFIED:20251204T080504Z
DESCRIPTION:Frauen Bezirksoberliga\nBegegnungs-Nr: 3036\nHeim: DRHV 06 II\nGast: SV Finken Raguhn\nHalle: Elbe-Rossel-Halle Roßlau (3138)\nAdresse: Goethestraße 1-5\, 06862 Dessau-Roßlau / OT Roßlau\n
LOCATION:Elbe-Rossel-Halle Roßlau (3138): Goethestraße 1-5\, 06862 Dessau-Roßlau / OT Roßlau
CATEGORIES:Saison 2025/26
END:VEVENT
BEGIN:VEVENT
DTSTAMP:20260425T152331Z
DTSTART;TZID=Europe/Berlin:20251122T170000
DTEND;TZID=Europe/Berlin:20251122T183000
SUMMARY:AOLFr DRHV 06 II vs TV \"Frischauf\" Holzdorf (3035)
UID:12d06d20-d2fb-40b7-b949-06eb727162a8
STATUS:CONFIRMED
LAST-MODIFIED:20251124T112616Z
DESCRIPTION:Frauen Bezirksoberliga\nBegegnungs-Nr: 3035\nHeim: DRHV 06 II\nGast: TV \"Frischauf\" Holzdorf\nHalle: Anhalt-Arena Dessau (3027)\nAdresse: An der Robert-Bosch-Straße 54\, 06847 Dessau-Roßlau / OT Alten\n
LOCATION:Anhalt-Arena Dessau (3027): An der Robert-Bosch-Straße 54\, 06847 Dessau-Roßlau / OT Alten
CATEGORIES:Saison 2025/26
END:VEVENT
BEGIN:VEVENT
DTSTAMP:20260425T152331Z
DTSTART;TZID=Europe/Berlin:20251101T170000
DTEND;TZID=Europe/Berlin:20251101T183000
SUMMARY:AOLFr DRHV 06 II vs SV Blau-Rot Coswig  (3024)
UID:0b33d196-c53e-434e-9ddc-5000c1bc25d7
STATUS:CONFIRMED
LAST-MODIFIED:20251105T121533Z
DESCRIPTION:Frauen Bezirksoberliga\nBegegnungs-Nr: 3024\nHeim: DRHV 06 II\nGast: SV Blau-Rot Coswig \nHalle: Anhalt-Arena Dessau (3027)\nAdresse: An der Robert-Bosch-Straße 54\, 06847 Dessau-Roßlau / OT Alten\n
LOCATION:Anhalt-Arena Dessau (3027): An der Robert-Bosch-Straße 54\, 06847 Dessau-Roßlau / OT Alten
CATEGORIES:Saison 2025/26
END:VEVENT
BEGIN:VEVENT
DTSTAMP:20260425T152331Z
DTSTART;TZID=Europe/Berlin:20260111T113000
DTEND;TZID=Europe/Berlin:20260111T130000
SUMMARY:AOLFr DRHV 06 II vs SV G-W Wittenberg-Piest. (3013)
UID:59cf2fcc-7e89-48e8-82d1-9ccda1a9ac74
STATUS:CONFIRMED
LAST-MODIFIED:20260114T103607Z
DESCRIPTION:Frauen Bezirksoberliga\nBegegnungs-Nr: 3013\nHeim: DRHV 06 II\nGast: SV G-W Wittenberg-Piest.\nHalle: Anhalt-Arena Dessau (3027)\nAdresse: An der Robert-Bosch-Straße 54\, 06847 Dessau-Roßlau / OT Alten\n
LOCATION:Anhalt-Arena Dessau (3027): An der Robert-Bosch-Straße 54\, 06847 Dessau-Roßlau / OT Alten
CATEGORIES:Saison 2025/26
END:VEVENT
BEGIN:VEVENT
DTSTAMP:20260425T152331Z
DTSTART;TZID=Europe/Berlin:20260412T160000
DTEND;TZID=Europe/Berlin:20260412T173000
SUMMARY:AOLFr SV Finken Raguhn vs DRHV 06 II (3081)
UID:5455f94e-9d9e-47f5-b79e-bc303395aaad
STATUS:CONFIRMED
LAST-MODIFIED:20260415T082515Z
DESCRIPTION:Frauen Bezirksoberliga\nBegegnungs-Nr: 3081\nHeim: SV Finken Raguhn\nGast: DRHV 06 II\nHalle: Jahn-SH Wolfen (3009)\nAdresse: Jahnstraße\, 06766 Wolfen\n
LOCATION:Jahn-SH Wolfen (3009): Jahnstraße\, 06766 Wolfen
CATEGORIES:Saison 2025/26
END:VEVENT
BEGIN:VEVENT
DTSTAMP:20260425T152331Z
DTSTART;TZID=Europe/Berlin:20260321T150000
DTEND;TZID=Europe/Berlin:20260321T163000
SUMMARY:AOLFr TV \"Frischauf\" Holzdorf vs DRHV 06 II (3080)
UID:fa4307a9-57ed-4cf6-a226-6a6e89bb051a
STATUS:CONFIRMED
LAST-MODIFIED:20260324T130631Z
DESCRIPTION:Frauen Bezirksoberliga\nBegegnungs-Nr: 3080\nHeim: TV \"Frischauf\" Holzdorf\nGast: DRHV 06 II\nHalle: Sport- und Mehrzweckhalle Sekundarschule Holzdorf (3078)\nAdresse: Fliegerhorstallee 1\, 06917 Jessen OT Holzdorf\n
LOCATION:Sport- und Mehrzweckhalle Sekundarschule Holzdorf (3078): Fliegerhorstallee 1\, 06917 Jessen OT Holzdorf
CATEGORIES:Saison 2025/26
END:VEVENT
BEGIN:VEVENT
DTSTAMP:20260425T152331Z
DTSTART;TZID=Europe/Berlin:20260307T140000
DTEND;TZID=Europe/Berlin:20260307T153000
SUMMARY:AOLFr SV Blau-Rot Coswig  vs DRHV 06 II (3069)
UID:c3a7e86a-32eb-4bdf-a63b-41d5bcb076e4
STATUS:CONFIRMED
LAST-MODIFIED:20260311T132750Z
DESCRIPTION:Frauen Bezirksoberliga\nBegegnungs-Nr: 3069\nHeim: SV Blau-Rot Coswig \nGast: DRHV 06 II\nHalle: Stadt-SH Coswig (3136)\nAdresse: Antonienhüttenweg 16\, 06869 Coswig\n
LOCATION:Stadt-SH Coswig (3136): Antonienhüttenweg 16\, 06869 Coswig
CATEGORIES:Saison 2025/26
END:VEVENT
BEGIN:VEVENT
DTSTAMP:20260425T152331Z
DTSTART;TZID=Europe/Berlin:20260215T110000
DTEND;TZID=Europe/Berlin:20260215T123000
SUMMARY:AOLFr SV G-W Wittenberg-Piest. vs DRHV 06 II (3058)
UID:1590da73-aac5-4897-8508-92ff9fe97cbc
STATUS:CONFIRMED
LAST-MODIFIED:20260220T105339Z
DESCRIPTION:Frauen Bezirksoberliga\nBegegnungs-Nr: 3058\nHeim: SV G-W Wittenberg-Piest.\nGast: DRHV 06 II\nHalle: Stadthalle Wittenberg (3176)\nAdresse: An der Stadthalle 1\, 06886 Wittenberg\n
LOCATION:Stadthalle Wittenberg (3176): An der Stadthalle 1\, 06886 Wittenberg
CATEGORIES:Saison 2025/26
END:VEVENT
BEGIN:VEVENT
DTSTAMP:20260425T152331Z
DTSTART;TZID=Europe/Berlin:20260228T183000
DTEND;TZID=Europe/Berlin:20260228T200000
SUMMARY:AOLFr HSG Wolfen 2000 vs DRHV 06 II (3042)
UID:f2aff26f-8ce7-4466-ae69-f04d07646b13
STATUS:CONFIRMED
LAST-MODIFIED:20260304T145628Z
DESCRIPTION:Frauen Bezirksoberliga\nBegegnungs-Nr: 3042\nHeim: HSG Wolfen 2000\nGast: DRHV 06 II\nHalle: SH BSZ August von Parseval Bitterfeld (3011)\nAdresse: Parseval-Straße 2\, 06749 Bitterfeld\n
LOCATION:SH BSZ August von Parseval Bitterfeld (3011): Parseval-Straße 2\, 06749 Bitterfeld
CATEGORIES:Saison 2025/26
END:VEVENT
BEGIN:VEVENT
DTSTAMP:20260425T152331Z
DTSTART;TZID=Europe/Berlin:20251109T150000
DTEND;TZID=Europe/Berlin:20251109T163000
SUMMARY:AOLFr SG Kühnau  vs DRHV 06 II (3030)
UID:f3b9a244-6646-4c99-9208-b93fa915317a
STATUS:CONFIRMED
LAST-MODIFIED:20251120T113234Z
DESCRIPTION:Frauen Bezirksoberliga\nBegegnungs-Nr: 3030\nHeim: SG Kühnau \nGast: DRHV 06 II\nHalle: SH Friedensschule Dessau (3030)\nAdresse: Elballee\, 06846 Dessau-Roßlau / OT Ziebigk\n
LOCATION:SH Friedensschule Dessau (3030): Elballee\, 06846 Dessau-Roßlau / OT Ziebigk
CATEGORIES:Saison 2025/26
END:VEVENT
BEGIN:VEVENT
DTSTAMP:20260425T152331Z
DTSTART;TZID=Europe/Berlin:20251115T160000
DTEND;TZID=Europe/Berlin:20251115T173000
SUMMARY:AOLFr HSV 2000 Zerbst vs DRHV 06 II (3019)
UID:20280043-28bc-497d-9ae1-d51e98f9da37
STATUS:CONFIRMED
LAST-MODIFIED:20251120T113312Z
DESCRIPTION:Frauen Bezirksoberliga\nBegegnungs-Nr: 3019\nHeim: HSV 2000 Zerbst\nGast: DRHV 06 II\nHalle: SH Zur Jannowitzbrücke Zerbst (3184)\nAdresse: Zur Jannowitzbrücke\, 39261 Zerbst\n
LOCATION:SH Zur Jannowitzbrücke Zerbst (3184): Zur Jannowitzbrücke\, 39261 Zerbst
CATEGORIES:Saison 2025/26
END:VEVENT
END:VCALENDAR
