BEGIN:VCALENDAR
PRODID:-//nuDatenautomaten//framework iCal4j //DE
VERSION:2.0
CALSCALE:GREGORIAN
BEGIN:VTIMEZONE
TZID:Europe/Berlin
LAST-MODIFIED:20260306T231828Z
TZURL:https://www.tzurl.org/zoneinfo/Europe/Berlin
X-LIC-LOCATION:Europe/Berlin
X-PROLEPTIC-TZNAME:LMT
BEGIN:STANDARD
TZNAME:CET
TZOFFSETFROM:+005328
TZOFFSETTO:+0100
DTSTART:18930401T000000
END:STANDARD
BEGIN:DAYLIGHT
TZNAME:CEST
TZOFFSETFROM:+0100
TZOFFSETTO:+0200
DTSTART:19160430T230000
RDATE:19400401T020000
RDATE:19430329T020000
RDATE:19460414T020000
RDATE:19470406T030000
RDATE:19480418T020000
RDATE:19490410T020000
RDATE:19800406T020000
END:DAYLIGHT
BEGIN:STANDARD
TZNAME:CET
TZOFFSETFROM:+0200
TZOFFSETTO:+0100
DTSTART:19161001T010000
RDATE:19421102T030000
RDATE:19431004T030000
RDATE:19441002T030000
RDATE:19451118T030000
RDATE:19461007T030000
END:STANDARD
BEGIN:DAYLIGHT
TZNAME:CEST
TZOFFSETFROM:+0100
TZOFFSETTO:+0200
DTSTART:19170416T020000
RRULE:FREQ=YEARLY;UNTIL=19180415T010000Z;BYMONTH=4;BYDAY=3MO
END:DAYLIGHT
BEGIN:STANDARD
TZNAME:CET
TZOFFSETFROM:+0200
TZOFFSETTO:+0100
DTSTART:19170917T030000
RRULE:FREQ=YEARLY;UNTIL=19180916T010000Z;BYMONTH=9;BYDAY=3MO
END:STANDARD
BEGIN:DAYLIGHT
TZNAME:CEST
TZOFFSETFROM:+0100
TZOFFSETTO:+0200
DTSTART:19440403T020000
RRULE:FREQ=YEARLY;UNTIL=19450402T010000Z;BYMONTH=4;BYDAY=1MO
END:DAYLIGHT
BEGIN:DAYLIGHT
TZNAME:CEMT
TZOFFSETFROM:+0200
TZOFFSETTO:+0300
DTSTART:19450524T020000
RDATE:19470511T030000
END:DAYLIGHT
BEGIN:DAYLIGHT
TZNAME:CEST
TZOFFSETFROM:+0300
TZOFFSETTO:+0200
DTSTART:19450924T030000
RDATE:19470629T030000
END:DAYLIGHT
BEGIN:STANDARD
TZNAME:CET
TZOFFSETFROM:+0100
TZOFFSETTO:+0100
DTSTART:19460101T000000
RDATE:19800101T000000
END:STANDARD
BEGIN:STANDARD
TZNAME:CET
TZOFFSETFROM:+0200
TZOFFSETTO:+0100
DTSTART:19471005T030000
RRULE:FREQ=YEARLY;UNTIL=19491002T010000Z;BYMONTH=10;BYDAY=1SU
END:STANDARD
BEGIN:STANDARD
TZNAME:CET
TZOFFSETFROM:+0200
TZOFFSETTO:+0100
DTSTART:19800928T030000
RRULE:FREQ=YEARLY;UNTIL=19950924T010000Z;BYMONTH=9;BYDAY=-1SU
END:STANDARD
BEGIN:DAYLIGHT
TZNAME:CEST
TZOFFSETFROM:+0100
TZOFFSETTO:+0200
DTSTART:19810329T020000
RRULE:FREQ=YEARLY;BYMONTH=3;BYDAY=-1SU
END:DAYLIGHT
BEGIN:STANDARD
TZNAME:CET
TZOFFSETFROM:+0200
TZOFFSETTO:+0100
DTSTART:19961027T030000
RRULE:FREQ=YEARLY;BYMONTH=10;BYDAY=-1SU
END:STANDARD
END:VTIMEZONE
BEGIN:VEVENT
DTSTAMP:20260424T150925Z
DTSTART;TZID=Europe/Berlin:20260411T140000
DTEND;TZID=Europe/Berlin:20260411T150000
SUMMARY:männliche B-Jugend Oberliga SV Wacker 09 Westeregeln vs SV Irxleben 1919 e.V. (5078)
UID:9325b9f3-674c-4cc6-bdf7-5595879a0c14
STATUS:CONFIRMED
LAST-MODIFIED:20260319T103641Z
DESCRIPTION:männliche B-Jugend Oberliga\nBegegnungs-Nr: 5078\nHeim: SV Wacker 09 Westeregeln\nGast: SV Irxleben 1919 e.V.\nHalle: SH Westeregeln (2154)\nAdresse: Feldstraße\, 39448 Westeregeln\n
LOCATION:SH Westeregeln (2154): Feldstraße\, 39448 Westeregeln
CATEGORIES:Saison 2025/26
END:VEVENT
BEGIN:VEVENT
DTSTAMP:20260424T150925Z
DTSTART;TZID=Europe/Berlin:20260228T140000
DTEND;TZID=Europe/Berlin:20260228T150000
SUMMARY:männliche B-Jugend Oberliga SV Wacker 09 Westeregeln vs HSV Magdeburg (5066)
UID:dab16c9d-c2c3-4a14-8338-b81051a6caae
STATUS:CONFIRMED
LAST-MODIFIED:20260228T204218Z
DESCRIPTION:männliche B-Jugend Oberliga\nBegegnungs-Nr: 5066\nHeim: SV Wacker 09 Westeregeln\nGast: HSV Magdeburg\nHalle: SH Westeregeln (2154)\nAdresse: Feldstraße\, 39448 Westeregeln\n
LOCATION:SH Westeregeln (2154): Feldstraße\, 39448 Westeregeln
CATEGORIES:Saison 2025/26
END:VEVENT
BEGIN:VEVENT
DTSTAMP:20260424T150925Z
DTSTART;TZID=Europe/Berlin:20260214T140000
DTEND;TZID=Europe/Berlin:20260214T150000
SUMMARY:männliche B-Jugend Oberliga SV Wacker 09 Westeregeln vs HSG Ehle (5059)
UID:4f4f75d2-3dfd-4c66-86e1-51199352d357
STATUS:CONFIRMED
LAST-MODIFIED:20260214T165030Z
DESCRIPTION:männliche B-Jugend Oberliga\nBegegnungs-Nr: 5059\nHeim: SV Wacker 09 Westeregeln\nGast: HSG Ehle\nHalle: SH Westeregeln (2154)\nAdresse: Feldstraße\, 39448 Westeregeln\n
LOCATION:SH Westeregeln (2154): Feldstraße\, 39448 Westeregeln
CATEGORIES:Saison 2025/26
END:VEVENT
BEGIN:VEVENT
DTSTAMP:20260424T150925Z
DTSTART;TZID=Europe/Berlin:20260117T140000
DTEND;TZID=Europe/Berlin:20260117T150000
SUMMARY:männliche B-Jugend Oberliga SV Wacker 09 Westeregeln vs HSG Wolfen 2000 (5050)
UID:ce048150-c157-44c6-b389-440d49248292
STATUS:CONFIRMED
LAST-MODIFIED:20260118T161200Z
DESCRIPTION:männliche B-Jugend Oberliga\nBegegnungs-Nr: 5050\nHeim: SV Wacker 09 Westeregeln\nGast: HSG Wolfen 2000\nHalle: SH Westeregeln (2154)\nAdresse: Feldstraße\, 39448 Westeregeln\n
LOCATION:SH Westeregeln (2154): Feldstraße\, 39448 Westeregeln
CATEGORIES:Saison 2025/26
END:VEVENT
BEGIN:VEVENT
DTSTAMP:20260424T150925Z
DTSTART;TZID=Europe/Berlin:20260425T140000
DTEND;TZID=Europe/Berlin:20260425T150000
SUMMARY:männliche B-Jugend Oberliga SV Wacker 09 Westeregeln vs HC Burgenland (5090)
UID:868b9b35-fa54-44af-9154-8389e66c71c5
STATUS:CONFIRMED
DESCRIPTION:männliche B-Jugend Oberliga\nBegegnungs-Nr: 5090\nHeim: SV Wacker 09 Westeregeln\nGast: HC Burgenland\nHalle: SH Westeregeln (2154)\nAdresse: Feldstraße\, 39448 Westeregeln\n
LOCATION:SH Westeregeln (2154): Feldstraße\, 39448 Westeregeln
CATEGORIES:Saison 2025/26
END:VEVENT
BEGIN:VEVENT
DTSTAMP:20260424T150925Z
DTSTART;TZID=Europe/Berlin:20251129T140000
DTEND;TZID=Europe/Berlin:20251129T150000
SUMMARY:männliche B-Jugend Oberliga SV Wacker 09 Westeregeln vs FSV 1895 Magdeburg  (5039)
UID:f0c8c927-755d-427b-853a-fe8827421fbe
STATUS:CONFIRMED
LAST-MODIFIED:20251130T215238Z
DESCRIPTION:männliche B-Jugend Oberliga\nBegegnungs-Nr: 5039\nHeim: SV Wacker 09 Westeregeln\nGast: FSV 1895 Magdeburg \nHalle: SH Westeregeln (2154)\nAdresse: Feldstraße\, 39448 Westeregeln\n
LOCATION:SH Westeregeln (2154): Feldstraße\, 39448 Westeregeln
CATEGORIES:Saison 2025/26
END:VEVENT
BEGIN:VEVENT
DTSTAMP:20260424T150925Z
DTSTART;TZID=Europe/Berlin:20251108T140000
DTEND;TZID=Europe/Berlin:20251108T150000
SUMMARY:männliche B-Jugend Oberliga SV Wacker 09 Westeregeln vs HC Aschersleben (5027)
UID:5e0b4bf6-2942-4dec-b14a-b3544d338efb
STATUS:CONFIRMED
LAST-MODIFIED:20251109T170314Z
DESCRIPTION:männliche B-Jugend Oberliga\nBegegnungs-Nr: 5027\nHeim: SV Wacker 09 Westeregeln\nGast: HC Aschersleben\nHalle: SH Westeregeln (2154)\nAdresse: Feldstraße\, 39448 Westeregeln\n
LOCATION:SH Westeregeln (2154): Feldstraße\, 39448 Westeregeln
CATEGORIES:Saison 2025/26
END:VEVENT
BEGIN:VEVENT
DTSTAMP:20260424T150925Z
DTSTART;TZID=Europe/Berlin:20250927T140000
DTEND;TZID=Europe/Berlin:20250927T150000
SUMMARY:männliche B-Jugend Oberliga SV Wacker 09 Westeregeln vs SG Kühnau  (5019)
UID:d907160c-80da-456e-8f57-422057a28ebe
STATUS:CONFIRMED
LAST-MODIFIED:20251020T160519Z
DESCRIPTION:männliche B-Jugend Oberliga\nBegegnungs-Nr: 5019\nHeim: SV Wacker 09 Westeregeln\nGast: SG Kühnau \nHalle: SH Westeregeln (2154)\nAdresse: Feldstraße\, 39448 Westeregeln\n
LOCATION:SH Westeregeln (2154): Feldstraße\, 39448 Westeregeln
CATEGORIES:Saison 2025/26
END:VEVENT
BEGIN:VEVENT
DTSTAMP:20260424T150925Z
DTSTART;TZID=Europe/Berlin:20250914T110000
DTEND;TZID=Europe/Berlin:20250914T120000
SUMMARY:männliche B-Jugend Oberliga SV Wacker 09 Westeregeln vs BSV 93 Magdeburg II (5010)
UID:d74022ad-7943-4eda-ab55-29d72443d1b7
STATUS:CONFIRMED
LAST-MODIFIED:20250914T190718Z
DESCRIPTION:männliche B-Jugend Oberliga\nBegegnungs-Nr: 5010\nHeim: SV Wacker 09 Westeregeln\nGast: BSV 93 Magdeburg II\nHalle: SH Westeregeln (2154)\nAdresse: Feldstraße\, 39448 Westeregeln\n
LOCATION:SH Westeregeln (2154): Feldstraße\, 39448 Westeregeln
CATEGORIES:Saison 2025/26
END:VEVENT
BEGIN:VEVENT
DTSTAMP:20260424T150925Z
DTSTART;TZID=Europe/Berlin:20260418T163000
DTEND;TZID=Europe/Berlin:20260418T173000
SUMMARY:männliche B-Jugend Oberliga FSV 1895 Magdeburg  vs SV Wacker 09 Westeregeln (5084)
UID:ca15f9f3-7704-46ae-8b69-cd44501b572c
STATUS:CONFIRMED
DESCRIPTION:männliche B-Jugend Oberliga\nBegegnungs-Nr: 5084\nHeim: FSV 1895 Magdeburg \nGast: SV Wacker 09 Westeregeln\nHalle: SH der Freundschaft Magd. (1096)\nAdresse: Platz der Freundschaft \, 39122 Magdeburg\n
LOCATION:SH der Freundschaft Magd. (1096): Platz der Freundschaft \, 39122 Magdeburg
CATEGORIES:Saison 2025/26
END:VEVENT
BEGIN:VEVENT
DTSTAMP:20260424T150925Z
DTSTART;TZID=Europe/Berlin:20260315T120000
DTEND;TZID=Europe/Berlin:20260315T130000
SUMMARY:männliche B-Jugend Oberliga HC Aschersleben vs SV Wacker 09 Westeregeln (5072)
UID:26a178d3-7341-498a-a7ce-fa1ae68c1af9
STATUS:CONFIRMED
LAST-MODIFIED:20260315T151420Z
DESCRIPTION:männliche B-Jugend Oberliga\nBegegnungs-Nr: 5072\nHeim: HC Aschersleben\nGast: SV Wacker 09 Westeregeln\nHalle: SH Bestehornpark (2199)\nAdresse: Heinrichstraße 4\, 06449 Aschersleben\n
LOCATION:SH Bestehornpark (2199): Heinrichstraße 4\, 06449 Aschersleben
CATEGORIES:Saison 2025/26
END:VEVENT
BEGIN:VEVENT
DTSTAMP:20260424T150925Z
DTSTART;TZID=Europe/Berlin:20260221T150000
DTEND;TZID=Europe/Berlin:20260221T160000
SUMMARY:männliche B-Jugend Oberliga SG Kühnau  vs SV Wacker 09 Westeregeln (5064)
UID:45c15a75-110f-470e-9fbf-c0eaf81436ea
STATUS:CONFIRMED
LAST-MODIFIED:20260227T204307Z
DESCRIPTION:männliche B-Jugend Oberliga\nBegegnungs-Nr: 5064\nHeim: SG Kühnau \nGast: SV Wacker 09 Westeregeln\nHalle: Elbe-Rossel-Halle Roßlau (3138)\nAdresse: Goethestraße 1-5\, 06862 Dessau-Roßlau / OT Roßlau\n
LOCATION:Elbe-Rossel-Halle Roßlau (3138): Goethestraße 1-5\, 06862 Dessau-Roßlau / OT Roßlau
CATEGORIES:Saison 2025/26
END:VEVENT
BEGIN:VEVENT
DTSTAMP:20260424T150925Z
DTSTART;TZID=Europe/Berlin:20260124T160000
DTEND;TZID=Europe/Berlin:20260124T170000
SUMMARY:männliche B-Jugend Oberliga BSV 93 Magdeburg II vs SV Wacker 09 Westeregeln (5055)
UID:283b8125-2bd2-4cae-b710-b416eb3edc87
STATUS:CONFIRMED
LAST-MODIFIED:20260202T111852Z
DESCRIPTION:männliche B-Jugend Oberliga\nBegegnungs-Nr: 5055\nHeim: BSV 93 Magdeburg II\nGast: SV Wacker 09 Westeregeln\nHalle: SH Albert-Einstein-Gymn. Magdeburg (1101)\nAdresse: Olvenstedter Graseweg 36\, 39128 Magdeburg\n
LOCATION:SH Albert-Einstein-Gymn. Magdeburg (1101): Olvenstedter Graseweg 36\, 39128 Magdeburg
CATEGORIES:Saison 2025/26
END:VEVENT
BEGIN:VEVENT
DTSTAMP:20260424T150925Z
DTSTART;TZID=Europe/Berlin:20251207T140000
DTEND;TZID=Europe/Berlin:20251207T150000
SUMMARY:männliche B-Jugend Oberliga HC Burgenland vs SV Wacker 09 Westeregeln (5045)
UID:60928bcc-8213-43ce-a787-73f852274f2a
STATUS:CONFIRMED
LAST-MODIFIED:20251210T184714Z
DESCRIPTION:männliche B-Jugend Oberliga\nBegegnungs-Nr: 5045\nHeim: HC Burgenland\nGast: SV Wacker 09 Westeregeln\nHalle: SH Prittitz (4355)\nAdresse: Wethauer Landstraße\, 06682 Teuchern OT Prittitz\n
LOCATION:SH Prittitz (4355): Wethauer Landstraße\, 06682 Teuchern OT Prittitz
CATEGORIES:Saison 2025/26
END:VEVENT
BEGIN:VEVENT
DTSTAMP:20260424T150925Z
DTSTART;TZID=Europe/Berlin:20251115T130000
DTEND;TZID=Europe/Berlin:20251115T140000
SUMMARY:männliche B-Jugend Oberliga SV Irxleben 1919 e.V. vs SV Wacker 09 Westeregeln (5033)
UID:3711f052-dde8-429a-a4fd-b4d7031e2b0a
STATUS:CONFIRMED
LAST-MODIFIED:20251116T093427Z
DESCRIPTION:männliche B-Jugend Oberliga\nBegegnungs-Nr: 5033\nHeim: SV Irxleben 1919 e.V.\nGast: SV Wacker 09 Westeregeln\nHalle: Wildpark SH Irxleben (1050)\nAdresse: Siegweg 4\, 39167 Irxleben\n
LOCATION:Wildpark SH Irxleben (1050): Siegweg 4\, 39167 Irxleben
CATEGORIES:Saison 2025/26
END:VEVENT
BEGIN:VEVENT
DTSTAMP:20260424T150925Z
DTSTART;TZID=Europe/Berlin:20251004T140000
DTEND;TZID=Europe/Berlin:20251004T150000
SUMMARY:männliche B-Jugend Oberliga HSV Magdeburg vs SV Wacker 09 Westeregeln (5021)
UID:fa097e36-1295-45e7-ae1a-ac9865505e34
STATUS:CONFIRMED
LAST-MODIFIED:20251006T191057Z
DESCRIPTION:männliche B-Jugend Oberliga\nBegegnungs-Nr: 5021\nHeim: HSV Magdeburg\nGast: SV Wacker 09 Westeregeln\nHalle: SH Eike-von-Repgow\, Magdeburg (1105)\nAdresse: Albert-Vater-Straße 90\, 39108 Magdeburg\n
LOCATION:SH Eike-von-Repgow\, Magdeburg (1105): Albert-Vater-Straße 90\, 39108 Magdeburg
CATEGORIES:Saison 2025/26
END:VEVENT
BEGIN:VEVENT
DTSTAMP:20260424T150925Z
DTSTART;TZID=Europe/Berlin:20250920T110000
DTEND;TZID=Europe/Berlin:20250920T120000
SUMMARY:männliche B-Jugend Oberliga HSG Ehle vs SV Wacker 09 Westeregeln (5014)
UID:d3cea02c-d053-40a0-8d7e-9c633c30f39d
STATUS:CONFIRMED
LAST-MODIFIED:20250920T174828Z
DESCRIPTION:männliche B-Jugend Oberliga\nBegegnungs-Nr: 5014\nHeim: HSG Ehle\nGast: SV Wacker 09 Westeregeln\nHalle: Eintracht-Sporthalle Gommern (1197)\nAdresse: Magdeburgerstraße 24b\, 39245 Gommern\n
LOCATION:Eintracht-Sporthalle Gommern (1197): Magdeburgerstraße 24b\, 39245 Gommern
CATEGORIES:Saison 2025/26
END:VEVENT
BEGIN:VEVENT
DTSTAMP:20260424T150925Z
DTSTART;TZID=Europe/Berlin:20250906T143000
DTEND;TZID=Europe/Berlin:20250906T153000
SUMMARY:männliche B-Jugend Oberliga HSG Wolfen 2000 vs SV Wacker 09 Westeregeln (5005)
UID:770b65b3-26cd-46ed-be4a-9b190df520d2
STATUS:CONFIRMED
LAST-MODIFIED:20250912T210313Z
DESCRIPTION:männliche B-Jugend Oberliga\nBegegnungs-Nr: 5005\nHeim: HSG Wolfen 2000\nGast: SV Wacker 09 Westeregeln\nHalle: SH BSZ August von Parseval Bitterfeld (3011)\nAdresse: Parseval-Straße 2\, 06749 Bitterfeld\n
LOCATION:SH BSZ August von Parseval Bitterfeld (3011): Parseval-Straße 2\, 06749 Bitterfeld
CATEGORIES:Saison 2025/26
END:VEVENT
END:VCALENDAR
