BEGIN:VCALENDAR
PRODID:-//nuDatenautomaten//framework iCal4j //DE
VERSION:2.0
CALSCALE:GREGORIAN
BEGIN:VTIMEZONE
TZID:Europe/Berlin
LAST-MODIFIED:20260306T231828Z
TZURL:https://www.tzurl.org/zoneinfo/Europe/Berlin
X-LIC-LOCATION:Europe/Berlin
X-PROLEPTIC-TZNAME:LMT
BEGIN:STANDARD
TZNAME:CET
TZOFFSETFROM:+005328
TZOFFSETTO:+0100
DTSTART:18930401T000000
END:STANDARD
BEGIN:DAYLIGHT
TZNAME:CEST
TZOFFSETFROM:+0100
TZOFFSETTO:+0200
DTSTART:19160430T230000
RDATE:19400401T020000
RDATE:19430329T020000
RDATE:19460414T020000
RDATE:19470406T030000
RDATE:19480418T020000
RDATE:19490410T020000
RDATE:19800406T020000
END:DAYLIGHT
BEGIN:STANDARD
TZNAME:CET
TZOFFSETFROM:+0200
TZOFFSETTO:+0100
DTSTART:19161001T010000
RDATE:19421102T030000
RDATE:19431004T030000
RDATE:19441002T030000
RDATE:19451118T030000
RDATE:19461007T030000
END:STANDARD
BEGIN:DAYLIGHT
TZNAME:CEST
TZOFFSETFROM:+0100
TZOFFSETTO:+0200
DTSTART:19170416T020000
RRULE:FREQ=YEARLY;UNTIL=19180415T010000Z;BYMONTH=4;BYDAY=3MO
END:DAYLIGHT
BEGIN:STANDARD
TZNAME:CET
TZOFFSETFROM:+0200
TZOFFSETTO:+0100
DTSTART:19170917T030000
RRULE:FREQ=YEARLY;UNTIL=19180916T010000Z;BYMONTH=9;BYDAY=3MO
END:STANDARD
BEGIN:DAYLIGHT
TZNAME:CEST
TZOFFSETFROM:+0100
TZOFFSETTO:+0200
DTSTART:19440403T020000
RRULE:FREQ=YEARLY;UNTIL=19450402T010000Z;BYMONTH=4;BYDAY=1MO
END:DAYLIGHT
BEGIN:DAYLIGHT
TZNAME:CEMT
TZOFFSETFROM:+0200
TZOFFSETTO:+0300
DTSTART:19450524T020000
RDATE:19470511T030000
END:DAYLIGHT
BEGIN:DAYLIGHT
TZNAME:CEST
TZOFFSETFROM:+0300
TZOFFSETTO:+0200
DTSTART:19450924T030000
RDATE:19470629T030000
END:DAYLIGHT
BEGIN:STANDARD
TZNAME:CET
TZOFFSETFROM:+0100
TZOFFSETTO:+0100
DTSTART:19460101T000000
RDATE:19800101T000000
END:STANDARD
BEGIN:STANDARD
TZNAME:CET
TZOFFSETFROM:+0200
TZOFFSETTO:+0100
DTSTART:19471005T030000
RRULE:FREQ=YEARLY;UNTIL=19491002T010000Z;BYMONTH=10;BYDAY=1SU
END:STANDARD
BEGIN:STANDARD
TZNAME:CET
TZOFFSETFROM:+0200
TZOFFSETTO:+0100
DTSTART:19800928T030000
RRULE:FREQ=YEARLY;UNTIL=19950924T010000Z;BYMONTH=9;BYDAY=-1SU
END:STANDARD
BEGIN:DAYLIGHT
TZNAME:CEST
TZOFFSETFROM:+0100
TZOFFSETTO:+0200
DTSTART:19810329T020000
RRULE:FREQ=YEARLY;BYMONTH=3;BYDAY=-1SU
END:DAYLIGHT
BEGIN:STANDARD
TZNAME:CET
TZOFFSETFROM:+0200
TZOFFSETTO:+0100
DTSTART:19961027T030000
RRULE:FREQ=YEARLY;BYMONTH=10;BYDAY=-1SU
END:STANDARD
END:VTIMEZONE
BEGIN:VEVENT
DTSTAMP:20260426T014552Z
DTSTART;TZID=Europe/Berlin:20250914T144500
DTEND;TZID=Europe/Berlin:20250914T161500
SUMMARY:AOLMä SV G-W Wittenberg-Piest. II vs SG Kühnau  II (3108)
UID:df77912f-9d9b-427b-9c32-74c58ccff22a
STATUS:CONFIRMED
LAST-MODIFIED:20260207T215344Z
DESCRIPTION:Männer Bezirksoberliga\nBegegnungs-Nr: 3108\nHeim: SV G-W Wittenberg-Piest. II\nGast: SG Kühnau  II\nHalle: Stadthalle Wittenberg (3176)\nAdresse: An der Stadthalle 1\, 06886 Wittenberg\n
LOCATION:Stadthalle Wittenberg (3176): An der Stadthalle 1\, 06886 Wittenberg
CATEGORIES:Saison 2025/26
END:VEVENT
BEGIN:VEVENT
DTSTAMP:20260426T014552Z
DTSTART;TZID=Europe/Berlin:20260411T173000
DTEND;TZID=Europe/Berlin:20260411T190000
SUMMARY:AOLMä SV G-W Wittenberg-Piest. II vs TV \"Frischauf\" Holzdorf (3184)
UID:e223ddd3-a0c3-418c-a96b-36861aec8688
STATUS:CONFIRMED
LAST-MODIFIED:20250813T222458Z
DESCRIPTION:Männer Bezirksoberliga\nBegegnungs-Nr: 3184\nHeim: SV G-W Wittenberg-Piest. II\nGast: TV \"Frischauf\" Holzdorf\nHalle: Stadthalle Wittenberg (3176)\nAdresse: An der Stadthalle 1\, 06886 Wittenberg\n
LOCATION:Stadthalle Wittenberg (3176): An der Stadthalle 1\, 06886 Wittenberg
CATEGORIES:Saison 2025/26
END:VEVENT
BEGIN:VEVENT
DTSTAMP:20260426T014552Z
DTSTART;TZID=Europe/Berlin:20260321T173000
DTEND;TZID=Europe/Berlin:20260321T190000
SUMMARY:AOLMä SV G-W Wittenberg-Piest. II vs TSV \"Blau-Weiß\" Brehna (3178)
UID:629ccfc6-2ee8-4f6c-a8a9-c074f05bdd1b
STATUS:CONFIRMED
LAST-MODIFIED:20250813T222619Z
DESCRIPTION:Männer Bezirksoberliga\nBegegnungs-Nr: 3178\nHeim: SV G-W Wittenberg-Piest. II\nGast: TSV \"Blau-Weiß\" Brehna\nHalle: Stadthalle Wittenberg (3176)\nAdresse: An der Stadthalle 1\, 06886 Wittenberg\n
LOCATION:Stadthalle Wittenberg (3176): An der Stadthalle 1\, 06886 Wittenberg
CATEGORIES:Saison 2025/26
END:VEVENT
BEGIN:VEVENT
DTSTAMP:20260426T014552Z
DTSTART;TZID=Europe/Berlin:20260215T130000
DTEND;TZID=Europe/Berlin:20260215T143000
SUMMARY:AOLMä SV G-W Wittenberg-Piest. II vs DRHV 06 II (3157)
UID:d0818dd1-d9b6-4afd-a5ca-26a1ff28c5aa
STATUS:CONFIRMED
LAST-MODIFIED:20250813T222731Z
DESCRIPTION:Männer Bezirksoberliga\nBegegnungs-Nr: 3157\nHeim: SV G-W Wittenberg-Piest. II\nGast: DRHV 06 II\nHalle: Stadthalle Wittenberg (3176)\nAdresse: An der Stadthalle 1\, 06886 Wittenberg\n
LOCATION:Stadthalle Wittenberg (3176): An der Stadthalle 1\, 06886 Wittenberg
CATEGORIES:Saison 2025/26
END:VEVENT
BEGIN:VEVENT
DTSTAMP:20260426T014552Z
DTSTART;TZID=Europe/Berlin:20260117T190000
DTEND;TZID=Europe/Berlin:20260117T203000
SUMMARY:AOLMä SV G-W Wittenberg-Piest. II vs SV Blau-Rot Coswig  II (3148)
UID:7395d52f-f370-4fbb-9064-bd5b771df70f
STATUS:CONFIRMED
LAST-MODIFIED:20260322T190754Z
DESCRIPTION:Männer Bezirksoberliga\nBegegnungs-Nr: 3148\nHeim: SV G-W Wittenberg-Piest. II\nGast: SV Blau-Rot Coswig  II\nHalle: Stadthalle Wittenberg (3176)\nAdresse: An der Stadthalle 1\, 06886 Wittenberg\n
LOCATION:Stadthalle Wittenberg (3176): An der Stadthalle 1\, 06886 Wittenberg
CATEGORIES:Saison 2025/26
END:VEVENT
BEGIN:VEVENT
DTSTAMP:20260426T014552Z
DTSTART;TZID=Europe/Berlin:20251207T144500
DTEND;TZID=Europe/Berlin:20251207T161500
SUMMARY:AOLMä SV G-W Wittenberg-Piest. II vs TuS Radis II (3144)
UID:b6709c3f-0860-42e0-8fd2-d03fcb4c5bc3
STATUS:CONFIRMED
LAST-MODIFIED:20260121T211725Z
DESCRIPTION:Männer Bezirksoberliga\nBegegnungs-Nr: 3144\nHeim: SV G-W Wittenberg-Piest. II\nGast: TuS Radis II\nHalle: Stadthalle Wittenberg (3176)\nAdresse: An der Stadthalle 1\, 06886 Wittenberg\n
LOCATION:Stadthalle Wittenberg (3176): An der Stadthalle 1\, 06886 Wittenberg
CATEGORIES:Saison 2025/26
END:VEVENT
BEGIN:VEVENT
DTSTAMP:20260426T014552Z
DTSTART;TZID=Europe/Berlin:20251109T144500
DTEND;TZID=Europe/Berlin:20251109T161500
SUMMARY:AOLMä SV G-W Wittenberg-Piest. II vs Jessener SV 53 (3127)
UID:5aa3b879-e5f0-472a-8efd-909f4041ad7c
STATUS:CONFIRMED
LAST-MODIFIED:20260207T222858Z
DESCRIPTION:Männer Bezirksoberliga\nBegegnungs-Nr: 3127\nHeim: SV G-W Wittenberg-Piest. II\nGast: Jessener SV 53\nHalle: Stadthalle Wittenberg (3176)\nAdresse: An der Stadthalle 1\, 06886 Wittenberg\n
LOCATION:Stadthalle Wittenberg (3176): An der Stadthalle 1\, 06886 Wittenberg
CATEGORIES:Saison 2025/26
END:VEVENT
BEGIN:VEVENT
DTSTAMP:20260426T014552Z
DTSTART;TZID=Europe/Berlin:20250920T143000
DTEND;TZID=Europe/Berlin:20250920T160000
SUMMARY:AOLMä DRHV 06 II vs SV G-W Wittenberg-Piest. II (3112)
UID:ef8cfc16-8bb8-4506-9f32-9d2473dc9ea1
STATUS:CONFIRMED
LAST-MODIFIED:20260207T222840Z
DESCRIPTION:Männer Bezirksoberliga\nBegegnungs-Nr: 3112\nHeim: DRHV 06 II\nGast: SV G-W Wittenberg-Piest. II\nHalle: Anhalt-Arena Dessau (3027)\nAdresse: An der Robert-Bosch-Straße 54\, 06847 Dessau-Roßlau / OT Alten\n
LOCATION:Anhalt-Arena Dessau (3027): An der Robert-Bosch-Straße 54\, 06847 Dessau-Roßlau / OT Alten
CATEGORIES:Saison 2025/26
END:VEVENT
BEGIN:VEVENT
DTSTAMP:20260426T014552Z
DTSTART;TZID=Europe/Berlin:20260418T153000
DTEND;TZID=Europe/Berlin:20260418T170000
SUMMARY:AOLMä TuS Radis II vs SV G-W Wittenberg-Piest. II (3189)
UID:d4c5451d-2e0d-42a4-9181-99f0fb62387a
STATUS:CONFIRMED
LAST-MODIFIED:20260413T180457Z
DESCRIPTION:Männer Bezirksoberliga\nBegegnungs-Nr: 3189\nHeim: TuS Radis II\nGast: SV G-W Wittenberg-Piest. II\nHalle: SH Gräfenhainichen (3040)\nAdresse: Lindenallee\, 06773 Gräfenhainichen\n
LOCATION:SH Gräfenhainichen (3040): Lindenallee\, 06773 Gräfenhainichen
CATEGORIES:Saison 2025/26
END:VEVENT
BEGIN:VEVENT
DTSTAMP:20260426T014552Z
DTSTART;TZID=Europe/Berlin:20260314T180000
DTEND;TZID=Europe/Berlin:20260314T193000
SUMMARY:AOLMä Jessener SV 53 vs SV G-W Wittenberg-Piest. II (3172)
UID:a0432ef9-fc3f-47c2-aaa2-59052420b48f
STATUS:CONFIRMED
LAST-MODIFIED:20250813T222619Z
DESCRIPTION:Männer Bezirksoberliga\nBegegnungs-Nr: 3172\nHeim: Jessener SV 53\nGast: SV G-W Wittenberg-Piest. II\nHalle: SH Nordschule Jessen (3074)\nAdresse: Straße der Jugend 9\, 06917 Jessen\n
LOCATION:SH Nordschule Jessen (3074): Straße der Jugend 9\, 06917 Jessen
CATEGORIES:Saison 2025/26
END:VEVENT
BEGIN:VEVENT
DTSTAMP:20260426T014552Z
DTSTART;TZID=Europe/Berlin:20260301T150000
DTEND;TZID=Europe/Berlin:20260301T163000
SUMMARY:AOLMä SG Kühnau  II vs SV G-W Wittenberg-Piest. II (3153)
UID:f371604f-8f93-4ef1-abe7-fe2b1a1563cb
STATUS:CONFIRMED
LAST-MODIFIED:20260123T114347Z
DESCRIPTION:Männer Bezirksoberliga\nBegegnungs-Nr: 3153\nHeim: SG Kühnau  II\nGast: SV G-W Wittenberg-Piest. II\nHalle: SH BSZ Dessau (3029)\nAdresse: Junkersstraße 30\, 06846 Dessau-Roßlau / OT Alten\n
LOCATION:SH BSZ Dessau (3029): Junkersstraße 30\, 06846 Dessau-Roßlau / OT Alten
CATEGORIES:Saison 2025/26
END:VEVENT
BEGIN:VEVENT
DTSTAMP:20260426T014552Z
DTSTART;TZID=Europe/Berlin:20250906T180000
DTEND;TZID=Europe/Berlin:20250906T193000
SUMMARY:AOLMä SV Blau-Rot Coswig  II vs SV G-W Wittenberg-Piest. II (3103)
UID:215ae1b8-c098-413c-901f-5412cc87fd22
STATUS:CONFIRMED
LAST-MODIFIED:20250921T175651Z
DESCRIPTION:Männer Bezirksoberliga\nBegegnungs-Nr: 3103\nHeim: SV Blau-Rot Coswig  II\nGast: SV G-W Wittenberg-Piest. II\nHalle: Stadt-SH Coswig (3136)\nAdresse: Antonienhüttenweg 16\, 06869 Coswig\n
LOCATION:Stadt-SH Coswig (3136): Antonienhüttenweg 16\, 06869 Coswig
CATEGORIES:Saison 2025/26
END:VEVENT
BEGIN:VEVENT
DTSTAMP:20260426T014552Z
DTSTART;TZID=Europe/Berlin:20251129T171500
DTEND;TZID=Europe/Berlin:20251129T184500
SUMMARY:AOLMä TV \"Frischauf\" Holzdorf vs SV G-W Wittenberg-Piest. II (3139)
UID:564b7953-3ae2-4bca-b91a-74599d5b541a
STATUS:CONFIRMED
LAST-MODIFIED:20260121T211329Z
DESCRIPTION:Männer Bezirksoberliga\nBegegnungs-Nr: 3139\nHeim: TV \"Frischauf\" Holzdorf\nGast: SV G-W Wittenberg-Piest. II\nHalle: Sport- und Mehrzweckhalle Sekundarschule Holzdorf (3078)\nAdresse: Fliegerhorstallee 1\, 06917 Jessen OT Holzdorf\n
LOCATION:Sport- und Mehrzweckhalle Sekundarschule Holzdorf (3078): Fliegerhorstallee 1\, 06917 Jessen OT Holzdorf
CATEGORIES:Saison 2025/26
END:VEVENT
BEGIN:VEVENT
DTSTAMP:20260426T014552Z
DTSTART;TZID=Europe/Berlin:20251115T160000
DTEND;TZID=Europe/Berlin:20251115T173000
SUMMARY:AOLMä TSV \"Blau-Weiß\" Brehna vs SV G-W Wittenberg-Piest. II (3133)
UID:6b639734-5e50-442f-bb5d-46609e08d859
STATUS:CONFIRMED
LAST-MODIFIED:20251121T184046Z
DESCRIPTION:Männer Bezirksoberliga\nBegegnungs-Nr: 3133\nHeim: TSV \"Blau-Weiß\" Brehna\nGast: SV G-W Wittenberg-Piest. II\nHalle: Kultur- und Sportzentrum Brehna (3014)\nAdresse: Bahnhofstraße 30b\, 06796 Brehna\n
LOCATION:Kultur- und Sportzentrum Brehna (3014): Bahnhofstraße 30b\, 06796 Brehna
CATEGORIES:Saison 2025/26
END:VEVENT
END:VCALENDAR
