BEGIN:VCALENDAR
PRODID:-//nuDatenautomaten//framework iCal4j //DE
VERSION:2.0
CALSCALE:GREGORIAN
BEGIN:VTIMEZONE
TZID:Europe/Berlin
LAST-MODIFIED:20260306T231828Z
TZURL:https://www.tzurl.org/zoneinfo/Europe/Berlin
X-LIC-LOCATION:Europe/Berlin
X-PROLEPTIC-TZNAME:LMT
BEGIN:STANDARD
TZNAME:CET
TZOFFSETFROM:+005328
TZOFFSETTO:+0100
DTSTART:18930401T000000
END:STANDARD
BEGIN:DAYLIGHT
TZNAME:CEST
TZOFFSETFROM:+0100
TZOFFSETTO:+0200
DTSTART:19160430T230000
RDATE:19400401T020000
RDATE:19430329T020000
RDATE:19460414T020000
RDATE:19470406T030000
RDATE:19480418T020000
RDATE:19490410T020000
RDATE:19800406T020000
END:DAYLIGHT
BEGIN:STANDARD
TZNAME:CET
TZOFFSETFROM:+0200
TZOFFSETTO:+0100
DTSTART:19161001T010000
RDATE:19421102T030000
RDATE:19431004T030000
RDATE:19441002T030000
RDATE:19451118T030000
RDATE:19461007T030000
END:STANDARD
BEGIN:DAYLIGHT
TZNAME:CEST
TZOFFSETFROM:+0100
TZOFFSETTO:+0200
DTSTART:19170416T020000
RRULE:FREQ=YEARLY;UNTIL=19180415T010000Z;BYMONTH=4;BYDAY=3MO
END:DAYLIGHT
BEGIN:STANDARD
TZNAME:CET
TZOFFSETFROM:+0200
TZOFFSETTO:+0100
DTSTART:19170917T030000
RRULE:FREQ=YEARLY;UNTIL=19180916T010000Z;BYMONTH=9;BYDAY=3MO
END:STANDARD
BEGIN:DAYLIGHT
TZNAME:CEST
TZOFFSETFROM:+0100
TZOFFSETTO:+0200
DTSTART:19440403T020000
RRULE:FREQ=YEARLY;UNTIL=19450402T010000Z;BYMONTH=4;BYDAY=1MO
END:DAYLIGHT
BEGIN:DAYLIGHT
TZNAME:CEMT
TZOFFSETFROM:+0200
TZOFFSETTO:+0300
DTSTART:19450524T020000
RDATE:19470511T030000
END:DAYLIGHT
BEGIN:DAYLIGHT
TZNAME:CEST
TZOFFSETFROM:+0300
TZOFFSETTO:+0200
DTSTART:19450924T030000
RDATE:19470629T030000
END:DAYLIGHT
BEGIN:STANDARD
TZNAME:CET
TZOFFSETFROM:+0100
TZOFFSETTO:+0100
DTSTART:19460101T000000
RDATE:19800101T000000
END:STANDARD
BEGIN:STANDARD
TZNAME:CET
TZOFFSETFROM:+0200
TZOFFSETTO:+0100
DTSTART:19471005T030000
RRULE:FREQ=YEARLY;UNTIL=19491002T010000Z;BYMONTH=10;BYDAY=1SU
END:STANDARD
BEGIN:STANDARD
TZNAME:CET
TZOFFSETFROM:+0200
TZOFFSETTO:+0100
DTSTART:19800928T030000
RRULE:FREQ=YEARLY;UNTIL=19950924T010000Z;BYMONTH=9;BYDAY=-1SU
END:STANDARD
BEGIN:DAYLIGHT
TZNAME:CEST
TZOFFSETFROM:+0100
TZOFFSETTO:+0200
DTSTART:19810329T020000
RRULE:FREQ=YEARLY;BYMONTH=3;BYDAY=-1SU
END:DAYLIGHT
BEGIN:STANDARD
TZNAME:CET
TZOFFSETFROM:+0200
TZOFFSETTO:+0100
DTSTART:19961027T030000
RRULE:FREQ=YEARLY;BYMONTH=10;BYDAY=-1SU
END:STANDARD
END:VTIMEZONE
BEGIN:VEVENT
DTSTAMP:20260426T025148Z
DTSTART;TZID=Europe/Berlin:20250427T160000
DTEND;TZID=Europe/Berlin:20250427T173000
SUMMARY:AOLFr Jessener SV 53 II vs HBC Wittenberg (1319)
UID:91f5277a-3296-4fba-8171-14923ea656a1
STATUS:CONFIRMED
LAST-MODIFIED:20250429T082805Z
DESCRIPTION:Frauen Bezirksoberliga\nBegegnungs-Nr: 1319\nHeim: Jessener SV 53 II\nGast: HBC Wittenberg\nHalle: SH Gymnasium Jessen (3077)\nAdresse: Mühlberger Straße\, 06917 Jessen\n
LOCATION:SH Gymnasium Jessen (3077): Mühlberger Straße\, 06917 Jessen
CATEGORIES:Saison 2024/25
END:VEVENT
BEGIN:VEVENT
DTSTAMP:20260426T025148Z
DTSTART;TZID=Europe/Berlin:20250330T160000
DTEND;TZID=Europe/Berlin:20250330T173000
SUMMARY:AOLFr Jessener SV 53 II vs SG Kühnau  II (1312)
UID:ff4398c7-1ab9-4677-8839-b220a15ad10a
STATUS:CONFIRMED
LAST-MODIFIED:20250402T114714Z
DESCRIPTION:Frauen Bezirksoberliga\nBegegnungs-Nr: 1312\nHeim: Jessener SV 53 II\nGast: SG Kühnau  II\nHalle: SH Nordschule Jessen (3074)\nAdresse: Straße der Jugend 9\, 06917 Jessen\n
LOCATION:SH Nordschule Jessen (3074): Straße der Jugend 9\, 06917 Jessen
CATEGORIES:Saison 2024/25
END:VEVENT
BEGIN:VEVENT
DTSTAMP:20260426T025148Z
DTSTART;TZID=Europe/Berlin:20250315T140000
DTEND;TZID=Europe/Berlin:20250315T153000
SUMMARY:AOLFr Jessener SV 53 II vs TV \"Frischauf\" Holzdorf (1299)
UID:8a384949-4f54-4cba-915d-116dd3cc61b7
STATUS:CONFIRMED
LAST-MODIFIED:20250319T084235Z
DESCRIPTION:Frauen Bezirksoberliga\nBegegnungs-Nr: 1299\nHeim: Jessener SV 53 II\nGast: TV \"Frischauf\" Holzdorf\nHalle: SH Gymnasium Jessen (3077)\nAdresse: Mühlberger Straße\, 06917 Jessen\n
LOCATION:SH Gymnasium Jessen (3077): Mühlberger Straße\, 06917 Jessen
CATEGORIES:Saison 2024/25
END:VEVENT
BEGIN:VEVENT
DTSTAMP:20260426T025148Z
DTSTART;TZID=Europe/Berlin:20250222T170000
DTEND;TZID=Europe/Berlin:20250222T183000
SUMMARY:AOLFr Jessener SV 53 II vs DRHV 06 II (1286)
UID:c04e04f6-0bc6-41a4-976c-d37fd6348e42
STATUS:CONFIRMED
LAST-MODIFIED:20250225T145034Z
DESCRIPTION:Frauen Bezirksoberliga\nBegegnungs-Nr: 1286\nHeim: Jessener SV 53 II\nGast: DRHV 06 II\nHalle: SH Gymnasium Jessen (3077)\nAdresse: Mühlberger Straße\, 06917 Jessen\n
LOCATION:SH Gymnasium Jessen (3077): Mühlberger Straße\, 06917 Jessen
CATEGORIES:Saison 2024/25
END:VEVENT
BEGIN:VEVENT
DTSTAMP:20260426T025148Z
DTSTART;TZID=Europe/Berlin:20250209T160000
DTEND;TZID=Europe/Berlin:20250209T173000
SUMMARY:AOLFr Jessener SV 53 II vs HSG Wolfen 2000 (1273)
UID:f5765a59-705a-436f-9f74-552949ea605a
STATUS:CONFIRMED
LAST-MODIFIED:20250209T171508Z
DESCRIPTION:Frauen Bezirksoberliga\nBegegnungs-Nr: 1273\nHeim: Jessener SV 53 II\nGast: HSG Wolfen 2000\nHalle: SH Gymnasium Jessen (3077)\nAdresse: Mühlberger Straße\, 06917 Jessen\n
LOCATION:SH Gymnasium Jessen (3077): Mühlberger Straße\, 06917 Jessen
CATEGORIES:Saison 2024/25
END:VEVENT
BEGIN:VEVENT
DTSTAMP:20260426T025148Z
DTSTART;TZID=Europe/Berlin:20241207T160000
DTEND;TZID=Europe/Berlin:20241207T173000
SUMMARY:AOLFr Jessener SV 53 II vs SV G-W Wittenberg-Piest. (1259)
UID:81ad19eb-7da5-4180-b70e-6a2a639829b1
STATUS:CONFIRMED
LAST-MODIFIED:20241209T093758Z
DESCRIPTION:Frauen Bezirksoberliga\nBegegnungs-Nr: 1259\nHeim: Jessener SV 53 II\nGast: SV G-W Wittenberg-Piest.\nHalle: SH Gymnasium Jessen (3077)\nAdresse: Mühlberger Straße\, 06917 Jessen\n
LOCATION:SH Gymnasium Jessen (3077): Mühlberger Straße\, 06917 Jessen
CATEGORIES:Saison 2024/25
END:VEVENT
BEGIN:VEVENT
DTSTAMP:20260426T025148Z
DTSTART;TZID=Europe/Berlin:20241109T190000
DTEND;TZID=Europe/Berlin:20241109T203000
SUMMARY:AOLFr Jessener SV 53 II vs HSV 2000 Zerbst (1241)
UID:1145b203-c9cc-4073-8f0a-c2239aa81857
STATUS:CONFIRMED
LAST-MODIFIED:20241110T091323Z
DESCRIPTION:Frauen Bezirksoberliga\nBegegnungs-Nr: 1241\nHeim: Jessener SV 53 II\nGast: HSV 2000 Zerbst\nHalle: SH Gymnasium Jessen (3077)\nAdresse: Mühlberger Straße\, 06917 Jessen\n
LOCATION:SH Gymnasium Jessen (3077): Mühlberger Straße\, 06917 Jessen
CATEGORIES:Saison 2024/25
END:VEVENT
BEGIN:VEVENT
DTSTAMP:20260426T025148Z
DTSTART;TZID=Europe/Berlin:20241026T183000
DTEND;TZID=Europe/Berlin:20241026T200000
SUMMARY:AOLFr Jessener SV 53 II vs SV Blau-Rot Coswig  (1229)
UID:16affd92-fdd5-4646-819e-87fde0f975eb
STATUS:CONFIRMED
LAST-MODIFIED:20241027T073551Z
DESCRIPTION:Frauen Bezirksoberliga\nBegegnungs-Nr: 1229\nHeim: Jessener SV 53 II\nGast: SV Blau-Rot Coswig \nHalle: SH Gymnasium Jessen (3077)\nAdresse: Mühlberger Straße\, 06917 Jessen\n
LOCATION:SH Gymnasium Jessen (3077): Mühlberger Straße\, 06917 Jessen
CATEGORIES:Saison 2024/25
END:VEVENT
BEGIN:VEVENT
DTSTAMP:20260426T025148Z
DTSTART;TZID=Europe/Berlin:20240922T160000
DTEND;TZID=Europe/Berlin:20240922T173000
SUMMARY:AOLFr Jessener SV 53 II vs SV Finken Raguhn (1217)
UID:910ac0bf-9af9-42f4-b63d-2aa03cd80456
STATUS:CONFIRMED
LAST-MODIFIED:20240930T160217Z
DESCRIPTION:Frauen Bezirksoberliga\nBegegnungs-Nr: 1217\nHeim: Jessener SV 53 II\nGast: SV Finken Raguhn\nHalle: SH Gymnasium Jessen (3077)\nAdresse: Mühlberger Straße\, 06917 Jessen\n
LOCATION:SH Gymnasium Jessen (3077): Mühlberger Straße\, 06917 Jessen
CATEGORIES:Saison 2024/25
END:VEVENT
BEGIN:VEVENT
DTSTAMP:20260426T025148Z
DTSTART;TZID=Europe/Berlin:20250322T150000
DTEND;TZID=Europe/Berlin:20250322T163000
SUMMARY:AOLFr HSV 2000 Zerbst vs Jessener SV 53 II (1307)
UID:f99c6d7e-6e80-48a4-879d-5535af09f6d3
STATUS:CONFIRMED
LAST-MODIFIED:20250327T121030Z
DESCRIPTION:Frauen Bezirksoberliga\nBegegnungs-Nr: 1307\nHeim: HSV 2000 Zerbst\nGast: Jessener SV 53 II\nHalle: SH Zur Jannowitzbrücke Zerbst (3184)\nAdresse: Zur Jannowitzbrücke\, 39261 Zerbst\n
LOCATION:SH Zur Jannowitzbrücke Zerbst (3184): Zur Jannowitzbrücke\, 39261 Zerbst
CATEGORIES:Saison 2024/25
END:VEVENT
BEGIN:VEVENT
DTSTAMP:20260426T025148Z
DTSTART;TZID=Europe/Berlin:20250308T140000
DTEND;TZID=Europe/Berlin:20250308T153000
SUMMARY:AOLFr SV Blau-Rot Coswig  vs Jessener SV 53 II (1295)
UID:a4290833-4ed8-4eaa-ade3-fe7603454170
STATUS:CONFIRMED
LAST-MODIFIED:20250312T080812Z
DESCRIPTION:Frauen Bezirksoberliga\nBegegnungs-Nr: 1295\nHeim: SV Blau-Rot Coswig \nGast: Jessener SV 53 II\nHalle: Stadt-SH Coswig (3136)\nAdresse: Antonienhüttenweg 16\, 06869 Coswig\n
LOCATION:Stadt-SH Coswig (3136): Antonienhüttenweg 16\, 06869 Coswig
CATEGORIES:Saison 2024/25
END:VEVENT
BEGIN:VEVENT
DTSTAMP:20260426T025148Z
DTSTART;TZID=Europe/Berlin:20250216T150000
DTEND;TZID=Europe/Berlin:20250216T163000
SUMMARY:AOLFr SV Finken Raguhn vs Jessener SV 53 II (1283)
UID:9c299a4f-1998-4e83-b7ab-a0a9a490ac67
STATUS:CONFIRMED
LAST-MODIFIED:20250219T083144Z
DESCRIPTION:Frauen Bezirksoberliga\nBegegnungs-Nr: 1283\nHeim: SV Finken Raguhn\nGast: Jessener SV 53 II\nHalle: SH BSZ August von Parseval Bitterfeld (3011)\nAdresse: Parseval-Straße 2\, 06749 Bitterfeld\n
LOCATION:SH BSZ August von Parseval Bitterfeld (3011): Parseval-Straße 2\, 06749 Bitterfeld
CATEGORIES:Saison 2024/25
END:VEVENT
BEGIN:VEVENT
DTSTAMP:20260426T025148Z
DTSTART;TZID=Europe/Berlin:20250112T160000
DTEND;TZID=Europe/Berlin:20250112T173000
SUMMARY:AOLFr BSG A. Gräfenhainichen  vs Jessener SV 53 II (1260)
UID:38190f19-508e-4128-81be-9cc7ee4a8839
STATUS:CONFIRMED
LAST-MODIFIED:20250114T122349Z
DESCRIPTION:Frauen Bezirksoberliga\nBegegnungs-Nr: 1260\nHeim: BSG A. Gräfenhainichen \nGast: Jessener SV 53 II\nHalle: SH Gräfenhainichen (3040)\nAdresse: Lindenallee\, 06773 Gräfenhainichen\n
LOCATION:SH Gräfenhainichen (3040): Lindenallee\, 06773 Gräfenhainichen
CATEGORIES:Saison 2024/25
END:VEVENT
BEGIN:VEVENT
DTSTAMP:20260426T025148Z
DTSTART;TZID=Europe/Berlin:20250503T153000
DTEND;TZID=Europe/Berlin:20250503T170000
SUMMARY:AOLFr SV G-W Wittenberg-Piest. vs Jessener SV 53 II (1325)
UID:3004bda6-12a4-45c9-8754-824e0b2ae320
STATUS:CONFIRMED
LAST-MODIFIED:20250504T092148Z
DESCRIPTION:Frauen Bezirksoberliga\nBegegnungs-Nr: 1325\nHeim: SV G-W Wittenberg-Piest.\nGast: Jessener SV 53 II\nHalle: Stadthalle Wittenberg (3176)\nAdresse: An der Stadthalle 1\, 06886 Wittenberg\n
LOCATION:Stadthalle Wittenberg (3176): An der Stadthalle 1\, 06886 Wittenberg
CATEGORIES:Saison 2024/25
END:VEVENT
BEGIN:VEVENT
DTSTAMP:20260426T025148Z
DTSTART;TZID=Europe/Berlin:20250511T160000
DTEND;TZID=Europe/Berlin:20250511T173000
SUMMARY:AOLFr BSG A. Gräfenhainichen  vs Jessener SV 53 II (1326)
UID:b8ba2306-a602-4f71-b79c-a51c0ffa871f
STATUS:CONFIRMED
LAST-MODIFIED:20250515T112250Z
DESCRIPTION:Frauen Bezirksoberliga\nBegegnungs-Nr: 1326\nHeim: BSG A. Gräfenhainichen \nGast: Jessener SV 53 II\nHalle: SH Gräfenhainichen (3040)\nAdresse: Lindenallee\, 06773 Gräfenhainichen\n
LOCATION:SH Gräfenhainichen (3040): Lindenallee\, 06773 Gräfenhainichen
CATEGORIES:Saison 2024/25
END:VEVENT
BEGIN:VEVENT
DTSTAMP:20260426T025148Z
DTSTART;TZID=Europe/Berlin:20241130T160000
DTEND;TZID=Europe/Berlin:20241130T173000
SUMMARY:AOLFr HBC Wittenberg vs Jessener SV 53 II (1253)
UID:97e8a5d6-bee1-4520-9542-96aa90e529da
STATUS:CONFIRMED
LAST-MODIFIED:20241209T093233Z
DESCRIPTION:Frauen Bezirksoberliga\nBegegnungs-Nr: 1253\nHeim: HBC Wittenberg\nGast: Jessener SV 53 II\nHalle: Stadthalle Wittenberg (3176)\nAdresse: An der Stadthalle 1\, 06886 Wittenberg\n
LOCATION:Stadthalle Wittenberg (3176): An der Stadthalle 1\, 06886 Wittenberg
CATEGORIES:Saison 2024/25
END:VEVENT
BEGIN:VEVENT
DTSTAMP:20260426T025148Z
DTSTART;TZID=Europe/Berlin:20241123T130000
DTEND;TZID=Europe/Berlin:20241123T143000
SUMMARY:AOLFr SG Kühnau  II vs Jessener SV 53 II (1246)
UID:c94f67be-d157-46ef-a28f-1d3c56479e5b
STATUS:CONFIRMED
LAST-MODIFIED:20241127T091150Z
DESCRIPTION:Frauen Bezirksoberliga\nBegegnungs-Nr: 1246\nHeim: SG Kühnau  II\nGast: Jessener SV 53 II\nHalle: SH Friedensschule Dessau (3030)\nAdresse: Elballee\, 06846 Dessau-Roßlau / OT Ziebigk\n
LOCATION:SH Friedensschule Dessau (3030): Elballee\, 06846 Dessau-Roßlau / OT Ziebigk
CATEGORIES:Saison 2024/25
END:VEVENT
BEGIN:VEVENT
DTSTAMP:20260426T025148Z
DTSTART;TZID=Europe/Berlin:20241102T150000
DTEND;TZID=Europe/Berlin:20241102T163000
SUMMARY:AOLFr TV \"Frischauf\" Holzdorf vs Jessener SV 53 II (1233)
UID:f1f0b039-d436-42a0-97da-0a3b5fc47b65
STATUS:CONFIRMED
LAST-MODIFIED:20241104T072923Z
DESCRIPTION:Frauen Bezirksoberliga\nBegegnungs-Nr: 1233\nHeim: TV \"Frischauf\" Holzdorf\nGast: Jessener SV 53 II\nHalle: Sport- und Mehrzweckhalle Sekundarschule Holzdorf (3078)\nAdresse: Fliegerhorstallee 1\, 06917 Jessen OT Holzdorf\n
LOCATION:Sport- und Mehrzweckhalle Sekundarschule Holzdorf (3078): Fliegerhorstallee 1\, 06917 Jessen OT Holzdorf
CATEGORIES:Saison 2024/25
END:VEVENT
BEGIN:VEVENT
DTSTAMP:20260426T025148Z
DTSTART;TZID=Europe/Berlin:20241019T180000
DTEND;TZID=Europe/Berlin:20241019T193000
SUMMARY:AOLFr DRHV 06 II vs Jessener SV 53 II (1220)
UID:eaba3f61-5edd-4781-bddf-3cf57d3b563f
STATUS:CONFIRMED
LAST-MODIFIED:20241027T073115Z
DESCRIPTION:Frauen Bezirksoberliga\nBegegnungs-Nr: 1220\nHeim: DRHV 06 II\nGast: Jessener SV 53 II\nHalle: Anhalt-Arena Dessau (3027)\nAdresse: An der Robert-Bosch-Straße 54\, 06847 Dessau-Roßlau / OT Alten\n
LOCATION:Anhalt-Arena Dessau (3027): An der Robert-Bosch-Straße 54\, 06847 Dessau-Roßlau / OT Alten
CATEGORIES:Saison 2024/25
END:VEVENT
BEGIN:VEVENT
DTSTAMP:20260426T025148Z
DTSTART;TZID=Europe/Berlin:20240914T150000
DTEND;TZID=Europe/Berlin:20240914T163000
SUMMARY:AOLFr HSG Wolfen 2000 vs Jessener SV 53 II (1207)
UID:1c161cef-cde1-4ced-b8c6-05b1cf3f5ddb
STATUS:CONFIRMED
LAST-MODIFIED:20240918T122157Z
DESCRIPTION:Frauen Bezirksoberliga\nBegegnungs-Nr: 1207\nHeim: HSG Wolfen 2000\nGast: Jessener SV 53 II\nHalle: SH BSZ August von Parseval Bitterfeld (3011)\nAdresse: Parseval-Straße 2\, 06749 Bitterfeld\n
LOCATION:SH BSZ August von Parseval Bitterfeld (3011): Parseval-Straße 2\, 06749 Bitterfeld
CATEGORIES:Saison 2024/25
END:VEVENT
END:VCALENDAR
