BEGIN:VCALENDAR
PRODID:-//nuDatenautomaten//framework iCal4j //DE
VERSION:2.0
CALSCALE:GREGORIAN
BEGIN:VTIMEZONE
TZID:Europe/Berlin
LAST-MODIFIED:20260306T231828Z
TZURL:https://www.tzurl.org/zoneinfo/Europe/Berlin
X-LIC-LOCATION:Europe/Berlin
X-PROLEPTIC-TZNAME:LMT
BEGIN:STANDARD
TZNAME:CET
TZOFFSETFROM:+005328
TZOFFSETTO:+0100
DTSTART:18930401T000000
END:STANDARD
BEGIN:DAYLIGHT
TZNAME:CEST
TZOFFSETFROM:+0100
TZOFFSETTO:+0200
DTSTART:19160430T230000
RDATE:19400401T020000
RDATE:19430329T020000
RDATE:19460414T020000
RDATE:19470406T030000
RDATE:19480418T020000
RDATE:19490410T020000
RDATE:19800406T020000
END:DAYLIGHT
BEGIN:STANDARD
TZNAME:CET
TZOFFSETFROM:+0200
TZOFFSETTO:+0100
DTSTART:19161001T010000
RDATE:19421102T030000
RDATE:19431004T030000
RDATE:19441002T030000
RDATE:19451118T030000
RDATE:19461007T030000
END:STANDARD
BEGIN:DAYLIGHT
TZNAME:CEST
TZOFFSETFROM:+0100
TZOFFSETTO:+0200
DTSTART:19170416T020000
RRULE:FREQ=YEARLY;UNTIL=19180415T010000Z;BYMONTH=4;BYDAY=3MO
END:DAYLIGHT
BEGIN:STANDARD
TZNAME:CET
TZOFFSETFROM:+0200
TZOFFSETTO:+0100
DTSTART:19170917T030000
RRULE:FREQ=YEARLY;UNTIL=19180916T010000Z;BYMONTH=9;BYDAY=3MO
END:STANDARD
BEGIN:DAYLIGHT
TZNAME:CEST
TZOFFSETFROM:+0100
TZOFFSETTO:+0200
DTSTART:19440403T020000
RRULE:FREQ=YEARLY;UNTIL=19450402T010000Z;BYMONTH=4;BYDAY=1MO
END:DAYLIGHT
BEGIN:DAYLIGHT
TZNAME:CEMT
TZOFFSETFROM:+0200
TZOFFSETTO:+0300
DTSTART:19450524T020000
RDATE:19470511T030000
END:DAYLIGHT
BEGIN:DAYLIGHT
TZNAME:CEST
TZOFFSETFROM:+0300
TZOFFSETTO:+0200
DTSTART:19450924T030000
RDATE:19470629T030000
END:DAYLIGHT
BEGIN:STANDARD
TZNAME:CET
TZOFFSETFROM:+0100
TZOFFSETTO:+0100
DTSTART:19460101T000000
RDATE:19800101T000000
END:STANDARD
BEGIN:STANDARD
TZNAME:CET
TZOFFSETFROM:+0200
TZOFFSETTO:+0100
DTSTART:19471005T030000
RRULE:FREQ=YEARLY;UNTIL=19491002T010000Z;BYMONTH=10;BYDAY=1SU
END:STANDARD
BEGIN:STANDARD
TZNAME:CET
TZOFFSETFROM:+0200
TZOFFSETTO:+0100
DTSTART:19800928T030000
RRULE:FREQ=YEARLY;UNTIL=19950924T010000Z;BYMONTH=9;BYDAY=-1SU
END:STANDARD
BEGIN:DAYLIGHT
TZNAME:CEST
TZOFFSETFROM:+0100
TZOFFSETTO:+0200
DTSTART:19810329T020000
RRULE:FREQ=YEARLY;BYMONTH=3;BYDAY=-1SU
END:DAYLIGHT
BEGIN:STANDARD
TZNAME:CET
TZOFFSETFROM:+0200
TZOFFSETTO:+0100
DTSTART:19961027T030000
RRULE:FREQ=YEARLY;BYMONTH=10;BYDAY=-1SU
END:STANDARD
END:VTIMEZONE
BEGIN:VEVENT
DTSTAMP:20260426T010627Z
DTSTART;TZID=Europe/Berlin:20240907T090000
DTEND;TZID=Europe/Berlin:20240907T093000
SUMMARY:Sichtung D1 BSG A. Gräfenhainichen  vs Jessener SV 53 (2011)
UID:781ff7a5-fd91-475d-85ef-95a896bc11f1
STATUS:CONFIRMED
LAST-MODIFIED:20240902T171325Z
DESCRIPTION:Sichtung D1\nBegegnungs-Nr: 2011\nHeim: BSG A. Gräfenhainichen \nGast: Jessener SV 53\nHalle: Mehrzweckhalle Juristenstraße Wittenberg (3179)\nAdresse: Juristenstraße 13a\, 06886 Wittenberg\n
LOCATION:Mehrzweckhalle Juristenstraße Wittenberg (3179): Juristenstraße 13a\, 06886 Wittenberg
CATEGORIES:Saison 2024/25
END:VEVENT
BEGIN:VEVENT
DTSTAMP:20260426T010627Z
DTSTART;TZID=Europe/Berlin:20250330T121500
DTEND;TZID=Europe/Berlin:20250330T131500
SUMMARY:AOLWJD BSG A. Gräfenhainichen  vs SV Blau-Rot Coswig  (548)
UID:6e020a4e-eb70-4e7c-afdc-d39029942a42
STATUS:CONFIRMED
LAST-MODIFIED:20250402T143019Z
DESCRIPTION:weibliche D-Jugend Bezirksoberliga Anhalt\nBegegnungs-Nr: 548\nHeim: BSG A. Gräfenhainichen \nGast: SV Blau-Rot Coswig \nHalle: SH Gräfenhainichen (3040)\nAdresse: Lindenallee\, 06773 Gräfenhainichen\n
LOCATION:SH Gräfenhainichen (3040): Lindenallee\, 06773 Gräfenhainichen
CATEGORIES:Saison 2024/25
END:VEVENT
BEGIN:VEVENT
DTSTAMP:20260426T010627Z
DTSTART;TZID=Europe/Berlin:20240914T140000
DTEND;TZID=Europe/Berlin:20240914T150000
SUMMARY:AOLWJD BSG A. Gräfenhainichen  vs HSG Wolfen 2000 (500)
UID:f46c7fe0-0f5a-4958-8b62-81de792ecbc6
STATUS:CONFIRMED
LAST-MODIFIED:20240916T143834Z
DESCRIPTION:weibliche D-Jugend Bezirksoberliga Anhalt\nBegegnungs-Nr: 500\nHeim: BSG A. Gräfenhainichen \nGast: HSG Wolfen 2000\nHalle: SH Gräfenhainichen (3040)\nAdresse: Lindenallee\, 06773 Gräfenhainichen\n
LOCATION:SH Gräfenhainichen (3040): Lindenallee\, 06773 Gräfenhainichen
CATEGORIES:Saison 2024/25
END:VEVENT
BEGIN:VEVENT
DTSTAMP:20260426T010627Z
DTSTART;TZID=Europe/Berlin:20241020T160000
DTEND;TZID=Europe/Berlin:20241020T170000
SUMMARY:AOLWJD BSG A. Gräfenhainichen  vs TSV \"Blau-Weiß\" Brehna (508)
UID:4e9b6520-f16f-4237-af21-94138e35996a
STATUS:CONFIRMED
LAST-MODIFIED:20241022T164839Z
DESCRIPTION:weibliche D-Jugend Bezirksoberliga Anhalt\nBegegnungs-Nr: 508\nHeim: BSG A. Gräfenhainichen \nGast: TSV \"Blau-Weiß\" Brehna\nHalle: SH Gräfenhainichen (3040)\nAdresse: Lindenallee\, 06773 Gräfenhainichen\n
LOCATION:SH Gräfenhainichen (3040): Lindenallee\, 06773 Gräfenhainichen
CATEGORIES:Saison 2024/25
END:VEVENT
BEGIN:VEVENT
DTSTAMP:20260426T010627Z
DTSTART;TZID=Europe/Berlin:20241110T122000
DTEND;TZID=Europe/Berlin:20241110T132000
SUMMARY:AOLWJD BSG A. Gräfenhainichen  vs Jessener SV 53 (516)
UID:baa40017-4933-431a-9968-96dc23ede2c6
STATUS:CONFIRMED
LAST-MODIFIED:20241112T170705Z
DESCRIPTION:weibliche D-Jugend Bezirksoberliga Anhalt\nBegegnungs-Nr: 516\nHeim: BSG A. Gräfenhainichen \nGast: Jessener SV 53\nHalle: SH Gräfenhainichen (3040)\nAdresse: Lindenallee\, 06773 Gräfenhainichen\n
LOCATION:SH Gräfenhainichen (3040): Lindenallee\, 06773 Gräfenhainichen
CATEGORIES:Saison 2024/25
END:VEVENT
BEGIN:VEVENT
DTSTAMP:20260426T010627Z
DTSTART;TZID=Europe/Berlin:20250119T140000
DTEND;TZID=Europe/Berlin:20250119T150000
SUMMARY:AOLWJD BSG A. Gräfenhainichen  vs Kühnau/DRHV 06 II (532)
UID:99e88a56-7b98-48b4-ad27-9d67cb513c60
STATUS:CONFIRMED
LAST-MODIFIED:20250123T150701Z
DESCRIPTION:weibliche D-Jugend Bezirksoberliga Anhalt\nBegegnungs-Nr: 532\nHeim: BSG A. Gräfenhainichen \nGast: Kühnau/DRHV 06 II\nHalle: SH Gräfenhainichen (3040)\nAdresse: Lindenallee\, 06773 Gräfenhainichen\n
LOCATION:SH Gräfenhainichen (3040): Lindenallee\, 06773 Gräfenhainichen
CATEGORIES:Saison 2024/25
END:VEVENT
BEGIN:VEVENT
DTSTAMP:20260426T010627Z
DTSTART;TZID=Europe/Berlin:20250223T141500
DTEND;TZID=Europe/Berlin:20250223T151500
SUMMARY:AOLWJD BSG A. Gräfenhainichen  vs SV Finken Raguhn (540)
UID:7fac5320-77a1-4c4f-8ab5-c76014123600
STATUS:CONFIRMED
LAST-MODIFIED:20250225T165905Z
DESCRIPTION:weibliche D-Jugend Bezirksoberliga Anhalt\nBegegnungs-Nr: 540\nHeim: BSG A. Gräfenhainichen \nGast: SV Finken Raguhn\nHalle: SH Gräfenhainichen (3040)\nAdresse: Lindenallee\, 06773 Gräfenhainichen\n
LOCATION:SH Gräfenhainichen (3040): Lindenallee\, 06773 Gräfenhainichen
CATEGORIES:Saison 2024/25
END:VEVENT
BEGIN:VEVENT
DTSTAMP:20260426T010627Z
DTSTART;TZID=Europe/Berlin:20240907T100000
DTEND;TZID=Europe/Berlin:20240907T103000
SUMMARY:Sichtung D1 Kühnau/DRHV 06 II vs BSG A. Gräfenhainichen  (2013)
UID:94f7a193-ed71-4174-8c05-583bc35fc4e8
STATUS:CONFIRMED
LAST-MODIFIED:20240902T171325Z
DESCRIPTION:Sichtung D1\nBegegnungs-Nr: 2013\nHeim: Kühnau/DRHV 06 II\nGast: BSG A. Gräfenhainichen \nHalle: Mehrzweckhalle Juristenstraße Wittenberg (3179)\nAdresse: Juristenstraße 13a\, 06886 Wittenberg\n
LOCATION:Mehrzweckhalle Juristenstraße Wittenberg (3179): Juristenstraße 13a\, 06886 Wittenberg
CATEGORIES:Saison 2024/25
END:VEVENT
BEGIN:VEVENT
DTSTAMP:20260426T010627Z
DTSTART;TZID=Europe/Berlin:20240922T100000
DTEND;TZID=Europe/Berlin:20240922T110000
SUMMARY:AOLWJD Kühnau/DRHV 06 II vs BSG A. Gräfenhainichen  (504)
UID:c2da919a-3b3a-4a57-bbd4-dbc1136123a1
STATUS:CONFIRMED
LAST-MODIFIED:20240923T184340Z
DESCRIPTION:weibliche D-Jugend Bezirksoberliga Anhalt\nBegegnungs-Nr: 504\nHeim: Kühnau/DRHV 06 II\nGast: BSG A. Gräfenhainichen \nHalle: SH Friedensschule Dessau (3030)\nAdresse: Elballee\, 06846 Dessau-Roßlau / OT Ziebigk\n
LOCATION:SH Friedensschule Dessau (3030): Elballee\, 06846 Dessau-Roßlau / OT Ziebigk
CATEGORIES:Saison 2024/25
END:VEVENT
BEGIN:VEVENT
DTSTAMP:20260426T010627Z
DTSTART;TZID=Europe/Berlin:20241027T100000
DTEND;TZID=Europe/Berlin:20241027T110000
SUMMARY:AOLWJD SV Finken Raguhn vs BSG A. Gräfenhainichen  (512)
UID:7596801a-cf87-422b-9760-d61cc0da3a8c
STATUS:CONFIRMED
LAST-MODIFIED:20241027T151653Z
DESCRIPTION:weibliche D-Jugend Bezirksoberliga Anhalt\nBegegnungs-Nr: 512\nHeim: SV Finken Raguhn\nGast: BSG A. Gräfenhainichen \nHalle: SH BSZ August von Parseval Bitterfeld (3011)\nAdresse: Parseval-Straße 2\, 06749 Bitterfeld\n
LOCATION:SH BSZ August von Parseval Bitterfeld (3011): Parseval-Straße 2\, 06749 Bitterfeld
CATEGORIES:Saison 2024/25
END:VEVENT
BEGIN:VEVENT
DTSTAMP:20260426T010627Z
DTSTART;TZID=Europe/Berlin:20241130T140000
DTEND;TZID=Europe/Berlin:20241130T150000
SUMMARY:AOLWJD SV Blau-Rot Coswig  vs BSG A. Gräfenhainichen  (520)
UID:80d2ff57-a01c-4669-8893-171bdcd94d19
STATUS:CONFIRMED
LAST-MODIFIED:20241215T204241Z
DESCRIPTION:weibliche D-Jugend Bezirksoberliga Anhalt\nBegegnungs-Nr: 520\nHeim: SV Blau-Rot Coswig \nGast: BSG A. Gräfenhainichen \nHalle: Stadt-SH Coswig (3136)\nAdresse: Antonienhüttenweg 16\, 06869 Coswig\n
LOCATION:Stadt-SH Coswig (3136): Antonienhüttenweg 16\, 06869 Coswig
CATEGORIES:Saison 2024/25
END:VEVENT
BEGIN:VEVENT
DTSTAMP:20260426T010627Z
DTSTART;TZID=Europe/Berlin:20250112T160000
DTEND;TZID=Europe/Berlin:20250112T170000
SUMMARY:AOLWJD HSG Wolfen 2000 vs BSG A. Gräfenhainichen  (528)
UID:ff6f4b57-91bf-474c-84b8-a98acf4402bf
STATUS:CONFIRMED
LAST-MODIFIED:20250113T195556Z
DESCRIPTION:weibliche D-Jugend Bezirksoberliga Anhalt\nBegegnungs-Nr: 528\nHeim: HSG Wolfen 2000\nGast: BSG A. Gräfenhainichen \nHalle: SH BSZ August von Parseval Bitterfeld (3011)\nAdresse: Parseval-Straße 2\, 06749 Bitterfeld\n
LOCATION:SH BSZ August von Parseval Bitterfeld (3011): Parseval-Straße 2\, 06749 Bitterfeld
CATEGORIES:Saison 2024/25
END:VEVENT
BEGIN:VEVENT
DTSTAMP:20260426T010627Z
DTSTART;TZID=Europe/Berlin:20250215T100000
DTEND;TZID=Europe/Berlin:20250215T110000
SUMMARY:AOLWJD TSV \"Blau-Weiß\" Brehna vs BSG A. Gräfenhainichen  (536)
UID:18e2ecd4-4059-42b0-a9e4-80aedd661fe9
STATUS:CONFIRMED
LAST-MODIFIED:20250220T181802Z
DESCRIPTION:weibliche D-Jugend Bezirksoberliga Anhalt\nBegegnungs-Nr: 536\nHeim: TSV \"Blau-Weiß\" Brehna\nGast: BSG A. Gräfenhainichen \nHalle: Kultur- und Sportzentrum Brehna (3014)\nAdresse: Bahnhofstraße 30b\, 06796 Brehna\n
LOCATION:Kultur- und Sportzentrum Brehna (3014): Bahnhofstraße 30b\, 06796 Brehna
CATEGORIES:Saison 2024/25
END:VEVENT
BEGIN:VEVENT
DTSTAMP:20260426T010627Z
DTSTART;TZID=Europe/Berlin:20250315T120000
DTEND;TZID=Europe/Berlin:20250315T130000
SUMMARY:AOLWJD Jessener SV 53 vs BSG A. Gräfenhainichen  (544)
UID:83b45a92-eae1-4b1e-b8cb-7a876229bb18
STATUS:CONFIRMED
LAST-MODIFIED:20250317T144102Z
DESCRIPTION:weibliche D-Jugend Bezirksoberliga Anhalt\nBegegnungs-Nr: 544\nHeim: Jessener SV 53\nGast: BSG A. Gräfenhainichen \nHalle: SH Gymnasium Jessen (3077)\nAdresse: Mühlberger Straße\, 06917 Jessen\n
LOCATION:SH Gymnasium Jessen (3077): Mühlberger Straße\, 06917 Jessen
CATEGORIES:Saison 2024/25
END:VEVENT
END:VCALENDAR
