BEGIN:VCALENDAR
PRODID:-//nuDatenautomaten//framework iCal4j //DE
VERSION:2.0
CALSCALE:GREGORIAN
BEGIN:VTIMEZONE
TZID:Europe/Berlin
LAST-MODIFIED:20260306T231828Z
TZURL:https://www.tzurl.org/zoneinfo/Europe/Berlin
X-LIC-LOCATION:Europe/Berlin
X-PROLEPTIC-TZNAME:LMT
BEGIN:STANDARD
TZNAME:CET
TZOFFSETFROM:+005328
TZOFFSETTO:+0100
DTSTART:18930401T000000
END:STANDARD
BEGIN:DAYLIGHT
TZNAME:CEST
TZOFFSETFROM:+0100
TZOFFSETTO:+0200
DTSTART:19160430T230000
RDATE:19400401T020000
RDATE:19430329T020000
RDATE:19460414T020000
RDATE:19470406T030000
RDATE:19480418T020000
RDATE:19490410T020000
RDATE:19800406T020000
END:DAYLIGHT
BEGIN:STANDARD
TZNAME:CET
TZOFFSETFROM:+0200
TZOFFSETTO:+0100
DTSTART:19161001T010000
RDATE:19421102T030000
RDATE:19431004T030000
RDATE:19441002T030000
RDATE:19451118T030000
RDATE:19461007T030000
END:STANDARD
BEGIN:DAYLIGHT
TZNAME:CEST
TZOFFSETFROM:+0100
TZOFFSETTO:+0200
DTSTART:19170416T020000
RRULE:FREQ=YEARLY;UNTIL=19180415T010000Z;BYMONTH=4;BYDAY=3MO
END:DAYLIGHT
BEGIN:STANDARD
TZNAME:CET
TZOFFSETFROM:+0200
TZOFFSETTO:+0100
DTSTART:19170917T030000
RRULE:FREQ=YEARLY;UNTIL=19180916T010000Z;BYMONTH=9;BYDAY=3MO
END:STANDARD
BEGIN:DAYLIGHT
TZNAME:CEST
TZOFFSETFROM:+0100
TZOFFSETTO:+0200
DTSTART:19440403T020000
RRULE:FREQ=YEARLY;UNTIL=19450402T010000Z;BYMONTH=4;BYDAY=1MO
END:DAYLIGHT
BEGIN:DAYLIGHT
TZNAME:CEMT
TZOFFSETFROM:+0200
TZOFFSETTO:+0300
DTSTART:19450524T020000
RDATE:19470511T030000
END:DAYLIGHT
BEGIN:DAYLIGHT
TZNAME:CEST
TZOFFSETFROM:+0300
TZOFFSETTO:+0200
DTSTART:19450924T030000
RDATE:19470629T030000
END:DAYLIGHT
BEGIN:STANDARD
TZNAME:CET
TZOFFSETFROM:+0100
TZOFFSETTO:+0100
DTSTART:19460101T000000
RDATE:19800101T000000
END:STANDARD
BEGIN:STANDARD
TZNAME:CET
TZOFFSETFROM:+0200
TZOFFSETTO:+0100
DTSTART:19471005T030000
RRULE:FREQ=YEARLY;UNTIL=19491002T010000Z;BYMONTH=10;BYDAY=1SU
END:STANDARD
BEGIN:STANDARD
TZNAME:CET
TZOFFSETFROM:+0200
TZOFFSETTO:+0100
DTSTART:19800928T030000
RRULE:FREQ=YEARLY;UNTIL=19950924T010000Z;BYMONTH=9;BYDAY=-1SU
END:STANDARD
BEGIN:DAYLIGHT
TZNAME:CEST
TZOFFSETFROM:+0100
TZOFFSETTO:+0200
DTSTART:19810329T020000
RRULE:FREQ=YEARLY;BYMONTH=3;BYDAY=-1SU
END:DAYLIGHT
BEGIN:STANDARD
TZNAME:CET
TZOFFSETFROM:+0200
TZOFFSETTO:+0100
DTSTART:19961027T030000
RRULE:FREQ=YEARLY;BYMONTH=10;BYDAY=-1SU
END:STANDARD
END:VTIMEZONE
BEGIN:VEVENT
DTSTAMP:20260424T204916Z
DTSTART;TZID=Europe/Berlin:20250504T160000
DTEND;TZID=Europe/Berlin:20250504T173000
SUMMARY:AOLFr BSG A. Gräfenhainichen  vs HBC Wittenberg (1320)
UID:545c7431-3596-4a6b-ba26-c6bae37d2b52
STATUS:CONFIRMED
LAST-MODIFIED:20250505T093931Z
DESCRIPTION:Frauen Bezirksoberliga\nBegegnungs-Nr: 1320\nHeim: BSG A. Gräfenhainichen \nGast: HBC Wittenberg\nHalle: SH Gräfenhainichen (3040)\nAdresse: Lindenallee\, 06773 Gräfenhainichen\n
LOCATION:SH Gräfenhainichen (3040): Lindenallee\, 06773 Gräfenhainichen
CATEGORIES:Saison 2024/25
END:VEVENT
BEGIN:VEVENT
DTSTAMP:20260424T204916Z
DTSTART;TZID=Europe/Berlin:20250330T160000
DTEND;TZID=Europe/Berlin:20250330T173000
SUMMARY:AOLFr BSG A. Gräfenhainichen  vs SV Blau-Rot Coswig  (1308)
UID:fefff64f-a665-42e3-a3e4-24f6304f949c
STATUS:CONFIRMED
LAST-MODIFIED:20250402T114552Z
DESCRIPTION:Frauen Bezirksoberliga\nBegegnungs-Nr: 1308\nHeim: BSG A. Gräfenhainichen \nGast: SV Blau-Rot Coswig \nHalle: SH Gräfenhainichen (3040)\nAdresse: Lindenallee\, 06773 Gräfenhainichen\n
LOCATION:SH Gräfenhainichen (3040): Lindenallee\, 06773 Gräfenhainichen
CATEGORIES:Saison 2024/25
END:VEVENT
BEGIN:VEVENT
DTSTAMP:20260424T204916Z
DTSTART;TZID=Europe/Berlin:20250223T160000
DTEND;TZID=Europe/Berlin:20250223T173000
SUMMARY:AOLFr BSG A. Gräfenhainichen  vs SG Kühnau  II (1284)
UID:093c2aa7-7caf-4db6-93d0-8a83f73d0a3f
STATUS:CONFIRMED
LAST-MODIFIED:20250225T145135Z
DESCRIPTION:Frauen Bezirksoberliga\nBegegnungs-Nr: 1284\nHeim: BSG A. Gräfenhainichen \nGast: SG Kühnau  II\nHalle: SH Gräfenhainichen (3040)\nAdresse: Lindenallee\, 06773 Gräfenhainichen\n
LOCATION:SH Gräfenhainichen (3040): Lindenallee\, 06773 Gräfenhainichen
CATEGORIES:Saison 2024/25
END:VEVENT
BEGIN:VEVENT
DTSTAMP:20260424T204916Z
DTSTART;TZID=Europe/Berlin:20250329T160000
DTEND;TZID=Europe/Berlin:20250329T173000
SUMMARY:AOLFr BSG A. Gräfenhainichen  vs DRHV 06 II (1272)
UID:9c8e5783-185c-4b61-853e-6a82118373bd
STATUS:CONFIRMED
LAST-MODIFIED:20250402T114354Z
DESCRIPTION:Frauen Bezirksoberliga\nBegegnungs-Nr: 1272\nHeim: BSG A. Gräfenhainichen \nGast: DRHV 06 II\nHalle: SH Gräfenhainichen (3040)\nAdresse: Lindenallee\, 06773 Gräfenhainichen\n
LOCATION:SH Gräfenhainichen (3040): Lindenallee\, 06773 Gräfenhainichen
CATEGORIES:Saison 2024/25
END:VEVENT
BEGIN:VEVENT
DTSTAMP:20260424T204916Z
DTSTART;TZID=Europe/Berlin:20250112T160000
DTEND;TZID=Europe/Berlin:20250112T173000
SUMMARY:AOLFr BSG A. Gräfenhainichen  vs Jessener SV 53 II (1260)
UID:38190f19-508e-4128-81be-9cc7ee4a8839
STATUS:CONFIRMED
LAST-MODIFIED:20250114T122349Z
DESCRIPTION:Frauen Bezirksoberliga\nBegegnungs-Nr: 1260\nHeim: BSG A. Gräfenhainichen \nGast: Jessener SV 53 II\nHalle: SH Gräfenhainichen (3040)\nAdresse: Lindenallee\, 06773 Gräfenhainichen\n
LOCATION:SH Gräfenhainichen (3040): Lindenallee\, 06773 Gräfenhainichen
CATEGORIES:Saison 2024/25
END:VEVENT
BEGIN:VEVENT
DTSTAMP:20260424T204916Z
DTSTART;TZID=Europe/Berlin:20250511T160000
DTEND;TZID=Europe/Berlin:20250511T173000
SUMMARY:AOLFr BSG A. Gräfenhainichen  vs Jessener SV 53 II (1326)
UID:b8ba2306-a602-4f71-b79c-a51c0ffa871f
STATUS:CONFIRMED
LAST-MODIFIED:20250515T112250Z
DESCRIPTION:Frauen Bezirksoberliga\nBegegnungs-Nr: 1326\nHeim: BSG A. Gräfenhainichen \nGast: Jessener SV 53 II\nHalle: SH Gräfenhainichen (3040)\nAdresse: Lindenallee\, 06773 Gräfenhainichen\n
LOCATION:SH Gräfenhainichen (3040): Lindenallee\, 06773 Gräfenhainichen
CATEGORIES:Saison 2024/25
END:VEVENT
BEGIN:VEVENT
DTSTAMP:20260424T204916Z
DTSTART;TZID=Europe/Berlin:20241201T160000
DTEND;TZID=Europe/Berlin:20241201T173000
SUMMARY:AOLFr BSG A. Gräfenhainichen  vs HSV 2000 Zerbst (1248)
UID:9052434e-dec7-4d67-996b-7b7d78817ab5
STATUS:CONFIRMED
LAST-MODIFIED:20241209T093340Z
DESCRIPTION:Frauen Bezirksoberliga\nBegegnungs-Nr: 1248\nHeim: BSG A. Gräfenhainichen \nGast: HSV 2000 Zerbst\nHalle: SH Gräfenhainichen (3040)\nAdresse: Lindenallee\, 06773 Gräfenhainichen\n
LOCATION:SH Gräfenhainichen (3040): Lindenallee\, 06773 Gräfenhainichen
CATEGORIES:Saison 2024/25
END:VEVENT
BEGIN:VEVENT
DTSTAMP:20260424T204916Z
DTSTART;TZID=Europe/Berlin:20250302T160000
DTEND;TZID=Europe/Berlin:20250302T173000
SUMMARY:AOLFr BSG A. Gräfenhainichen  vs SV Finken Raguhn (1236)
UID:77a5c59c-21b2-448d-8849-eb50669838ed
STATUS:CONFIRMED
LAST-MODIFIED:20250303T105050Z
DESCRIPTION:Frauen Bezirksoberliga\nBegegnungs-Nr: 1236\nHeim: BSG A. Gräfenhainichen \nGast: SV Finken Raguhn\nHalle: SH Gräfenhainichen (3040)\nAdresse: Lindenallee\, 06773 Gräfenhainichen\n
LOCATION:SH Gräfenhainichen (3040): Lindenallee\, 06773 Gräfenhainichen
CATEGORIES:Saison 2024/25
END:VEVENT
BEGIN:VEVENT
DTSTAMP:20260424T204916Z
DTSTART;TZID=Europe/Berlin:20241027T160000
DTEND;TZID=Europe/Berlin:20241027T173000
SUMMARY:AOLFr BSG A. Gräfenhainichen  vs SV G-W Wittenberg-Piest. (1224)
UID:44d8d8b4-f20e-4ed1-9949-9fde0d3cd531
STATUS:CONFIRMED
LAST-MODIFIED:20241029T085031Z
DESCRIPTION:Frauen Bezirksoberliga\nBegegnungs-Nr: 1224\nHeim: BSG A. Gräfenhainichen \nGast: SV G-W Wittenberg-Piest.\nHalle: SH Gräfenhainichen (3040)\nAdresse: Lindenallee\, 06773 Gräfenhainichen\n
LOCATION:SH Gräfenhainichen (3040): Lindenallee\, 06773 Gräfenhainichen
CATEGORIES:Saison 2024/25
END:VEVENT
BEGIN:VEVENT
DTSTAMP:20260424T204916Z
DTSTART;TZID=Europe/Berlin:20250309T160000
DTEND;TZID=Europe/Berlin:20250309T173000
SUMMARY:AOLFr BSG A. Gräfenhainichen  vs TV \"Frischauf\" Holzdorf (1212)
UID:0b2b4619-7663-46a7-b528-ae6cb35f0976
STATUS:CONFIRMED
LAST-MODIFIED:20250312T082238Z
DESCRIPTION:Frauen Bezirksoberliga\nBegegnungs-Nr: 1212\nHeim: BSG A. Gräfenhainichen \nGast: TV \"Frischauf\" Holzdorf\nHalle: SH Gräfenhainichen (3040)\nAdresse: Lindenallee\, 06773 Gräfenhainichen\n
LOCATION:SH Gräfenhainichen (3040): Lindenallee\, 06773 Gräfenhainichen
CATEGORIES:Saison 2024/25
END:VEVENT
BEGIN:VEVENT
DTSTAMP:20260424T204916Z
DTSTART;TZID=Europe/Berlin:20240908T160000
DTEND;TZID=Europe/Berlin:20240908T173000
SUMMARY:AOLFr BSG A. Gräfenhainichen  vs HSG Wolfen 2000 (1200)
UID:987b929a-f6d9-4e7c-8cdd-a8a0f25b1d2e
STATUS:CONFIRMED
LAST-MODIFIED:20240910T082949Z
DESCRIPTION:Frauen Bezirksoberliga\nBegegnungs-Nr: 1200\nHeim: BSG A. Gräfenhainichen \nGast: HSG Wolfen 2000\nHalle: SH Gräfenhainichen (3040)\nAdresse: Lindenallee\, 06773 Gräfenhainichen\n
LOCATION:SH Gräfenhainichen (3040): Lindenallee\, 06773 Gräfenhainichen
CATEGORIES:Saison 2024/25
END:VEVENT
BEGIN:VEVENT
DTSTAMP:20260424T204916Z
DTSTART;TZID=Europe/Berlin:20250425T180000
DTEND;TZID=Europe/Berlin:20250425T193000
SUMMARY:AOLFr HSV 2000 Zerbst vs BSG A. Gräfenhainichen  (1314)
UID:6efcc67f-737d-4bca-8bee-d3c5e4a22667
STATUS:CONFIRMED
LAST-MODIFIED:20250429T082554Z
DESCRIPTION:Frauen Bezirksoberliga\nBegegnungs-Nr: 1314\nHeim: HSV 2000 Zerbst\nGast: BSG A. Gräfenhainichen \nHalle: SH Zur Jannowitzbrücke Zerbst (3184)\nAdresse: Zur Jannowitzbrücke\, 39261 Zerbst\n
LOCATION:SH Zur Jannowitzbrücke Zerbst (3184): Zur Jannowitzbrücke\, 39261 Zerbst
CATEGORIES:Saison 2024/25
END:VEVENT
BEGIN:VEVENT
DTSTAMP:20260424T204916Z
DTSTART;TZID=Europe/Berlin:20250323T150000
DTEND;TZID=Europe/Berlin:20250323T163000
SUMMARY:AOLFr SV Finken Raguhn vs BSG A. Gräfenhainichen  (1302)
UID:4b87db48-66c9-4cd9-bf0d-0b8a6cf1dd30
STATUS:CONFIRMED
LAST-MODIFIED:20250327T121253Z
DESCRIPTION:Frauen Bezirksoberliga\nBegegnungs-Nr: 1302\nHeim: SV Finken Raguhn\nGast: BSG A. Gräfenhainichen \nHalle: SH BSZ August von Parseval Bitterfeld (3011)\nAdresse: Parseval-Straße 2\, 06749 Bitterfeld\n
LOCATION:SH BSZ August von Parseval Bitterfeld (3011): Parseval-Straße 2\, 06749 Bitterfeld
CATEGORIES:Saison 2024/25
END:VEVENT
BEGIN:VEVENT
DTSTAMP:20260424T204916Z
DTSTART;TZID=Europe/Berlin:20250308T143000
DTEND;TZID=Europe/Berlin:20250308T160000
SUMMARY:AOLFr SV G-W Wittenberg-Piest. vs BSG A. Gräfenhainichen  (1290)
UID:2b56c396-c41c-4b95-9b04-dcc14993b6b4
STATUS:CONFIRMED
LAST-MODIFIED:20250312T080921Z
DESCRIPTION:Frauen Bezirksoberliga\nBegegnungs-Nr: 1290\nHeim: SV G-W Wittenberg-Piest.\nGast: BSG A. Gräfenhainichen \nHalle: Stadthalle Wittenberg (3176)\nAdresse: An der Stadthalle 1\, 06886 Wittenberg\n
LOCATION:Stadthalle Wittenberg (3176): An der Stadthalle 1\, 06886 Wittenberg
CATEGORIES:Saison 2024/25
END:VEVENT
BEGIN:VEVENT
DTSTAMP:20260424T204916Z
DTSTART;TZID=Europe/Berlin:20240921T150000
DTEND;TZID=Europe/Berlin:20240921T163000
SUMMARY:AOLFr TV \"Frischauf\" Holzdorf vs BSG A. Gräfenhainichen  (1278)
UID:d8496160-9394-4351-870b-3d5d838a92f9
STATUS:CONFIRMED
LAST-MODIFIED:20240930T155851Z
DESCRIPTION:Frauen Bezirksoberliga\nBegegnungs-Nr: 1278\nHeim: TV \"Frischauf\" Holzdorf\nGast: BSG A. Gräfenhainichen \nHalle: Sport- und Mehrzweckhalle Sekundarschule Holzdorf (3078)\nAdresse: Fliegerhorstallee 1\, 06917 Jessen OT Holzdorf\n
LOCATION:Sport- und Mehrzweckhalle Sekundarschule Holzdorf (3078): Fliegerhorstallee 1\, 06917 Jessen OT Holzdorf
CATEGORIES:Saison 2024/25
END:VEVENT
BEGIN:VEVENT
DTSTAMP:20260424T204916Z
DTSTART;TZID=Europe/Berlin:20250118T160000
DTEND;TZID=Europe/Berlin:20250118T173000
SUMMARY:AOLFr HSG Wolfen 2000 vs BSG A. Gräfenhainichen  (1266)
UID:6ba2ad7f-1da8-47d1-bcff-8ebd758b48ae
STATUS:CONFIRMED
LAST-MODIFIED:20250124T121719Z
DESCRIPTION:Frauen Bezirksoberliga\nBegegnungs-Nr: 1266\nHeim: HSG Wolfen 2000\nGast: BSG A. Gräfenhainichen \nHalle: SH BSZ August von Parseval Bitterfeld (3011)\nAdresse: Parseval-Straße 2\, 06749 Bitterfeld\n
LOCATION:SH BSZ August von Parseval Bitterfeld (3011): Parseval-Straße 2\, 06749 Bitterfeld
CATEGORIES:Saison 2024/25
END:VEVENT
BEGIN:VEVENT
DTSTAMP:20260424T204916Z
DTSTART;TZID=Europe/Berlin:20241207T150000
DTEND;TZID=Europe/Berlin:20241207T163000
SUMMARY:AOLFr HBC Wittenberg vs BSG A. Gräfenhainichen  (1254)
UID:cda9e4e6-6d3f-40d1-bc59-e6bd1f6c28a2
STATUS:CONFIRMED
LAST-MODIFIED:20241209T093613Z
DESCRIPTION:Frauen Bezirksoberliga\nBegegnungs-Nr: 1254\nHeim: HBC Wittenberg\nGast: BSG A. Gräfenhainichen \nHalle: Mehrzweckhalle Juristenstraße Wittenberg (3179)\nAdresse: Juristenstraße 13a\, 06886 Wittenberg\n
LOCATION:Mehrzweckhalle Juristenstraße Wittenberg (3179): Juristenstraße 13a\, 06886 Wittenberg
CATEGORIES:Saison 2024/25
END:VEVENT
BEGIN:VEVENT
DTSTAMP:20260424T204916Z
DTSTART;TZID=Europe/Berlin:20241123T130000
DTEND;TZID=Europe/Berlin:20241123T143000
SUMMARY:AOLFr SV Blau-Rot Coswig  vs BSG A. Gräfenhainichen  (1242)
UID:628ab151-da19-42df-b3ae-5ac11d9b8f71
STATUS:CONFIRMED
LAST-MODIFIED:20241127T091111Z
DESCRIPTION:Frauen Bezirksoberliga\nBegegnungs-Nr: 1242\nHeim: SV Blau-Rot Coswig \nGast: BSG A. Gräfenhainichen \nHalle: Stadt-SH Coswig (3136)\nAdresse: Antonienhüttenweg 16\, 06869 Coswig\n
LOCATION:Stadt-SH Coswig (3136): Antonienhüttenweg 16\, 06869 Coswig
CATEGORIES:Saison 2024/25
END:VEVENT
BEGIN:VEVENT
DTSTAMP:20260424T204916Z
DTSTART;TZID=Europe/Berlin:20241020T153000
DTEND;TZID=Europe/Berlin:20241020T170000
SUMMARY:AOLFr SG Kühnau  II vs BSG A. Gräfenhainichen  (1218)
UID:beb75081-18f7-4f5f-9426-4863c02ce939
STATUS:CONFIRMED
LAST-MODIFIED:20241027T073249Z
DESCRIPTION:Frauen Bezirksoberliga\nBegegnungs-Nr: 1218\nHeim: SG Kühnau  II\nGast: BSG A. Gräfenhainichen \nHalle: Elbe-Rossel-Halle Roßlau (3138)\nAdresse: Goethestraße 1-5\, 06862 Dessau-Roßlau / OT Roßlau\n
LOCATION:Elbe-Rossel-Halle Roßlau (3138): Goethestraße 1-5\, 06862 Dessau-Roßlau / OT Roßlau
CATEGORIES:Saison 2024/25
END:VEVENT
BEGIN:VEVENT
DTSTAMP:20260424T204916Z
DTSTART;TZID=Europe/Berlin:20240914T133000
DTEND;TZID=Europe/Berlin:20240914T150000
SUMMARY:AOLFr DRHV 06 II vs BSG A. Gräfenhainichen  (1206)
UID:91bbabd5-dab2-4a1b-9ef7-37dd32c9c0c3
STATUS:CONFIRMED
LAST-MODIFIED:20240918T122109Z
DESCRIPTION:Frauen Bezirksoberliga\nBegegnungs-Nr: 1206\nHeim: DRHV 06 II\nGast: BSG A. Gräfenhainichen \nHalle: Anhalt-Arena Dessau (3027)\nAdresse: An der Robert-Bosch-Straße 54\, 06847 Dessau-Roßlau / OT Alten\n
LOCATION:Anhalt-Arena Dessau (3027): An der Robert-Bosch-Straße 54\, 06847 Dessau-Roßlau / OT Alten
CATEGORIES:Saison 2024/25
END:VEVENT
END:VCALENDAR
