BEGIN:VCALENDAR
PRODID:-//nuDatenautomaten//framework iCal4j //DE
VERSION:2.0
CALSCALE:GREGORIAN
BEGIN:VTIMEZONE
TZID:Europe/Berlin
LAST-MODIFIED:20260306T231828Z
TZURL:https://www.tzurl.org/zoneinfo/Europe/Berlin
X-LIC-LOCATION:Europe/Berlin
X-PROLEPTIC-TZNAME:LMT
BEGIN:STANDARD
TZNAME:CET
TZOFFSETFROM:+005328
TZOFFSETTO:+0100
DTSTART:18930401T000000
END:STANDARD
BEGIN:DAYLIGHT
TZNAME:CEST
TZOFFSETFROM:+0100
TZOFFSETTO:+0200
DTSTART:19160430T230000
RDATE:19400401T020000
RDATE:19430329T020000
RDATE:19460414T020000
RDATE:19470406T030000
RDATE:19480418T020000
RDATE:19490410T020000
RDATE:19800406T020000
END:DAYLIGHT
BEGIN:STANDARD
TZNAME:CET
TZOFFSETFROM:+0200
TZOFFSETTO:+0100
DTSTART:19161001T010000
RDATE:19421102T030000
RDATE:19431004T030000
RDATE:19441002T030000
RDATE:19451118T030000
RDATE:19461007T030000
END:STANDARD
BEGIN:DAYLIGHT
TZNAME:CEST
TZOFFSETFROM:+0100
TZOFFSETTO:+0200
DTSTART:19170416T020000
RRULE:FREQ=YEARLY;UNTIL=19180415T010000Z;BYMONTH=4;BYDAY=3MO
END:DAYLIGHT
BEGIN:STANDARD
TZNAME:CET
TZOFFSETFROM:+0200
TZOFFSETTO:+0100
DTSTART:19170917T030000
RRULE:FREQ=YEARLY;UNTIL=19180916T010000Z;BYMONTH=9;BYDAY=3MO
END:STANDARD
BEGIN:DAYLIGHT
TZNAME:CEST
TZOFFSETFROM:+0100
TZOFFSETTO:+0200
DTSTART:19440403T020000
RRULE:FREQ=YEARLY;UNTIL=19450402T010000Z;BYMONTH=4;BYDAY=1MO
END:DAYLIGHT
BEGIN:DAYLIGHT
TZNAME:CEMT
TZOFFSETFROM:+0200
TZOFFSETTO:+0300
DTSTART:19450524T020000
RDATE:19470511T030000
END:DAYLIGHT
BEGIN:DAYLIGHT
TZNAME:CEST
TZOFFSETFROM:+0300
TZOFFSETTO:+0200
DTSTART:19450924T030000
RDATE:19470629T030000
END:DAYLIGHT
BEGIN:STANDARD
TZNAME:CET
TZOFFSETFROM:+0100
TZOFFSETTO:+0100
DTSTART:19460101T000000
RDATE:19800101T000000
END:STANDARD
BEGIN:STANDARD
TZNAME:CET
TZOFFSETFROM:+0200
TZOFFSETTO:+0100
DTSTART:19471005T030000
RRULE:FREQ=YEARLY;UNTIL=19491002T010000Z;BYMONTH=10;BYDAY=1SU
END:STANDARD
BEGIN:STANDARD
TZNAME:CET
TZOFFSETFROM:+0200
TZOFFSETTO:+0100
DTSTART:19800928T030000
RRULE:FREQ=YEARLY;UNTIL=19950924T010000Z;BYMONTH=9;BYDAY=-1SU
END:STANDARD
BEGIN:DAYLIGHT
TZNAME:CEST
TZOFFSETFROM:+0100
TZOFFSETTO:+0200
DTSTART:19810329T020000
RRULE:FREQ=YEARLY;BYMONTH=3;BYDAY=-1SU
END:DAYLIGHT
BEGIN:STANDARD
TZNAME:CET
TZOFFSETFROM:+0200
TZOFFSETTO:+0100
DTSTART:19961027T030000
RRULE:FREQ=YEARLY;BYMONTH=10;BYDAY=-1SU
END:STANDARD
END:VTIMEZONE
BEGIN:VEVENT
DTSTAMP:20260424T151336Z
DTSTART;TZID=Europe/Berlin:20220205T120000
DTEND;TZID=Europe/Berlin:20220205T130000
SUMMARY:RNO wJB SV Union Halle-Neu. vs HC Leipzig (111)
UID:be958a63-1fcd-4c2f-ae5c-d65de4f8247f
STATUS:CONFIRMED
LAST-MODIFIED:20220205T160353Z
DESCRIPTION:Regionalliga Nordost weibliche Jugend B\nBegegnungs-Nr: 111\nHeim: SV Union Halle-Neu.\nGast: HC Leipzig\nHalle: SH im Bildungszentrum Halle Neustadt (4121)\nAdresse: Nietlebener Straße 14\, 06126 Halle\n
LOCATION:SH im Bildungszentrum Halle Neustadt (4121): Nietlebener Straße 14\, 06126 Halle
CATEGORIES:Saison 2021/22
END:VEVENT
BEGIN:VEVENT
DTSTAMP:20260424T151336Z
DTSTART;TZID=Europe/Berlin:20220604T114500
DTEND;TZID=Europe/Berlin:20220604T121500
SUMMARY:RNO-Quali 3  SV Union Halle-Neu. vs VfL Meißen (4032)
UID:a64e7157-e2f1-4600-b162-f943bf24cab8
STATUS:CONFIRMED
LAST-MODIFIED:20220605T083052Z
DESCRIPTION:RNO-Qualifikation wJB - Turnier 03 \nBegegnungs-Nr: 4032\nHeim: SV Union Halle-Neu.\nGast: VfL Meißen\nHalle: SH \"Heiliger Grund\" Meißen (33212)\nAdresse: Goethestraße 27\, 01662 Meißen\n
LOCATION:SH \"Heiliger Grund\" Meißen (33212): Goethestraße 27\, 01662 Meißen
CATEGORIES:Saison 2021/22
END:VEVENT
BEGIN:VEVENT
DTSTAMP:20260424T151336Z
DTSTART;TZID=Europe/Berlin:20211030T130000
DTEND;TZID=Europe/Berlin:20211030T140000
SUMMARY:RNO wJB SV Union Halle-Neu. vs HSV Magdeburg (128)
UID:668f3033-2a3e-4f1a-b081-4083057e5a62
STATUS:CONFIRMED
LAST-MODIFIED:20211103T224534Z
DESCRIPTION:Regionalliga Nordost weibliche Jugend B\nBegegnungs-Nr: 128\nHeim: SV Union Halle-Neu.\nGast: HSV Magdeburg\nHalle: Bildungszentrum Halle-Neustadt (4121)
LOCATION:Bildungszentrum Halle-Neustadt (4121): 
CATEGORIES:Saison 2021/22
END:VEVENT
BEGIN:VEVENT
DTSTAMP:20260424T151336Z
DTSTART;TZID=Europe/Berlin:20211113T130000
DTEND;TZID=Europe/Berlin:20211113T140000
SUMMARY:RNO wJB SV Union Halle-Neu. vs HC Rödertal  (126)
UID:52198008-2feb-49dd-90b3-89ef6ae03857
STATUS:CONFIRMED
LAST-MODIFIED:20211116T165529Z
DESCRIPTION:Regionalliga Nordost weibliche Jugend B\nBegegnungs-Nr: 126\nHeim: SV Union Halle-Neu.\nGast: HC Rödertal \nHalle: SWH-Arena (4126)\nAdresse: Nietlebener Straße 16\, 06126 Halle/Saale\n
LOCATION:SWH-Arena (4126): Nietlebener Straße 16\, 06126 Halle/Saale
CATEGORIES:Saison 2021/22
END:VEVENT
BEGIN:VEVENT
DTSTAMP:20260424T151336Z
DTSTART;TZID=Europe/Berlin:20220521T100000
DTEND;TZID=Europe/Berlin:20220521T110000
SUMMARY:RNO-Quali 1  SV Union Halle-Neu. vs HC Rödertal  (4020)
UID:c7645ca1-610c-4619-8777-15c167c1f365
STATUS:CONFIRMED
LAST-MODIFIED:20220522T190554Z
DESCRIPTION:RNO-Qualifikation wJB - Turnier 01 \nBegegnungs-Nr: 4020\nHeim: SV Union Halle-Neu.\nGast: HC Rödertal \nHalle: SWH-Arena (4126)\nAdresse: Nietlebener Straße 16\, 06126 Halle/Saale\n
LOCATION:SWH-Arena (4126): Nietlebener Straße 16\, 06126 Halle/Saale
CATEGORIES:Saison 2021/22
END:VEVENT
BEGIN:VEVENT
DTSTAMP:20260424T151336Z
DTSTART;TZID=Europe/Berlin:20220521T161500
DTEND;TZID=Europe/Berlin:20220521T171500
SUMMARY:RNO-Quali 1  SV Union Halle-Neu. vs SC Markranstädt (4025)
UID:0c9f97f5-287b-4ab9-a760-83b8697a43b6
STATUS:CONFIRMED
LAST-MODIFIED:20220522T190212Z
DESCRIPTION:RNO-Qualifikation wJB - Turnier 01 \nBegegnungs-Nr: 4025\nHeim: SV Union Halle-Neu.\nGast: SC Markranstädt\nHalle: SWH-Arena (4126)\nAdresse: Nietlebener Straße 16\, 06126 Halle/Saale\n
LOCATION:SWH-Arena (4126): Nietlebener Straße 16\, 06126 Halle/Saale
CATEGORIES:Saison 2021/22
END:VEVENT
BEGIN:VEVENT
DTSTAMP:20260424T151336Z
DTSTART;TZID=Europe/Berlin:20220604T144500
DTEND;TZID=Europe/Berlin:20220604T151500
SUMMARY:RNO-Quali 3  SV Union Halle-Neu. vs HSV Magdeburg (4036)
UID:5c11a5e2-6812-4b3a-a931-f516b3452ce3
STATUS:CONFIRMED
LAST-MODIFIED:20220605T083312Z
DESCRIPTION:RNO-Qualifikation wJB - Turnier 03 \nBegegnungs-Nr: 4036\nHeim: SV Union Halle-Neu.\nGast: HSV Magdeburg\nHalle: SH \"Heiliger Grund\" Meißen (33212)\nAdresse: Goethestraße 27\, 01662 Meißen\n
LOCATION:SH \"Heiliger Grund\" Meißen (33212): Goethestraße 27\, 01662 Meißen
CATEGORIES:Saison 2021/22
END:VEVENT
BEGIN:VEVENT
DTSTAMP:20260424T151336Z
DTSTART;TZID=Europe/Berlin:20220327T130000
DTEND;TZID=Europe/Berlin:20220327T140000
SUMMARY:RNO wJB SV Union Halle-Neu. vs BSV Sa. Zwickau (183)
UID:9409a8fb-4942-461a-bb3a-f48a730b68d2
STATUS:CONFIRMED
LAST-MODIFIED:20220328T131133Z
DESCRIPTION:Regionalliga Nordost weibliche Jugend B\nBegegnungs-Nr: 183\nHeim: SV Union Halle-Neu.\nGast: BSV Sa. Zwickau\nHalle: SWH-Arena (4126)\nAdresse: Nietlebener Straße 16\, 06126 Halle/Saale\n
LOCATION:SWH-Arena (4126): Nietlebener Straße 16\, 06126 Halle/Saale
CATEGORIES:Saison 2021/22
END:VEVENT
BEGIN:VEVENT
DTSTAMP:20260424T151336Z
DTSTART;TZID=Europe/Berlin:20220227T123000
DTEND;TZID=Europe/Berlin:20220227T133000
SUMMARY:RNO wJB SV Union Halle-Neu. vs Thüringer HC (146)
UID:3132970d-54b3-48a3-8d22-bddd6f645e97
STATUS:CONFIRMED
LAST-MODIFIED:20220306T125650Z
DESCRIPTION:Regionalliga Nordost weibliche Jugend B\nBegegnungs-Nr: 146\nHeim: SV Union Halle-Neu.\nGast: Thüringer HC\nHalle: Bildungszentrum Halle-Neustadt (4121)
LOCATION:Bildungszentrum Halle-Neustadt (4121): 
CATEGORIES:Saison 2021/22
END:VEVENT
BEGIN:VEVENT
DTSTAMP:20260424T151336Z
DTSTART;TZID=Europe/Berlin:20210926T120000
DTEND;TZID=Europe/Berlin:20210926T130000
SUMMARY:RNO wJB SV Union Halle-Neu. vs Rostocker Handball Club (118)
UID:92a17c1b-1cc9-4dbe-b253-94ebef3710c1
STATUS:CONFIRMED
LAST-MODIFIED:20210928T210012Z
DESCRIPTION:Regionalliga Nordost weibliche Jugend B\nBegegnungs-Nr: 118\nHeim: SV Union Halle-Neu.\nGast: Rostocker Handball Club\nHalle: SWH-Arena (4126)\nAdresse: Nietlebener Straße 16\, 06126 Halle/Saale\n
LOCATION:SWH-Arena (4126): Nietlebener Straße 16\, 06126 Halle/Saale
CATEGORIES:Saison 2021/22
END:VEVENT
BEGIN:VEVENT
DTSTAMP:20260424T151336Z
DTSTART;TZID=Europe/Berlin:20210912T130000
DTEND;TZID=Europe/Berlin:20210912T140000
SUMMARY:RNO wJB SV Union Halle-Neu. vs Frankfurter HC (104)
UID:b0ba26eb-8be6-4660-947e-7705e97fd703
STATUS:CONFIRMED
LAST-MODIFIED:20210915T125532Z
DESCRIPTION:Regionalliga Nordost weibliche Jugend B\nBegegnungs-Nr: 104\nHeim: SV Union Halle-Neu.\nGast: Frankfurter HC\nHalle: SWH-Arena (4126)\nAdresse: Nietlebener Straße 16\, 06126 Halle/Saale\n
LOCATION:SWH-Arena (4126): Nietlebener Straße 16\, 06126 Halle/Saale
CATEGORIES:Saison 2021/22
END:VEVENT
BEGIN:VEVENT
DTSTAMP:20260424T151336Z
DTSTART;TZID=Europe/Berlin:20220306T120000
DTEND;TZID=Europe/Berlin:20220306T130000
SUMMARY:RNO wJB SV Union Halle-Neu. vs Berliner TSC (173)
UID:75598dea-c04f-42c3-82ff-ee2dc42d6fad
STATUS:CONFIRMED
LAST-MODIFIED:20220307T133745Z
DESCRIPTION:Regionalliga Nordost weibliche Jugend B\nBegegnungs-Nr: 173\nHeim: SV Union Halle-Neu.\nGast: Berliner TSC\nHalle: SWH-Arena (4126)\nAdresse: Nietlebener Straße 16\, 06126 Halle/Saale\n
LOCATION:SWH-Arena (4126): Nietlebener Straße 16\, 06126 Halle/Saale
CATEGORIES:Saison 2021/22
END:VEVENT
BEGIN:VEVENT
DTSTAMP:20260424T151336Z
DTSTART;TZID=Europe/Berlin:20220220T130000
DTEND;TZID=Europe/Berlin:20220220T140000
SUMMARY:RNO wJB SV Union Halle-Neu. vs SV Grün Weiß Schwerin (167)
UID:b9c37de9-79fd-435d-a4f4-a599cb35cdbb
STATUS:CONFIRMED
LAST-MODIFIED:20220306T123101Z
DESCRIPTION:Regionalliga Nordost weibliche Jugend B\nBegegnungs-Nr: 167\nHeim: SV Union Halle-Neu.\nGast: SV Grün Weiß Schwerin\nHalle: SWH-Arena (4126)\nAdresse: Nietlebener Straße 16\, 06126 Halle/Saale\n
LOCATION:SWH-Arena (4126): Nietlebener Straße 16\, 06126 Halle/Saale
CATEGORIES:Saison 2021/22
END:VEVENT
BEGIN:VEVENT
DTSTAMP:20260424T151336Z
DTSTART;TZID=Europe/Berlin:20220521T134500
DTEND;TZID=Europe/Berlin:20220521T144500
SUMMARY:RNO-Quali 1  HSV Magdeburg vs SV Union Halle-Neu. (4023)
UID:08bec2a8-723f-4f61-8eb3-5e4bb0e48ad2
STATUS:CONFIRMED
LAST-MODIFIED:20220522T190133Z
DESCRIPTION:RNO-Qualifikation wJB - Turnier 01 \nBegegnungs-Nr: 4023\nHeim: HSV Magdeburg\nGast: SV Union Halle-Neu.\nHalle: SWH-Arena (4126)\nAdresse: Nietlebener Straße 16\, 06126 Halle/Saale\n
LOCATION:SWH-Arena (4126): Nietlebener Straße 16\, 06126 Halle/Saale
CATEGORIES:Saison 2021/22
END:VEVENT
BEGIN:VEVENT
DTSTAMP:20260424T151336Z
DTSTART;TZID=Europe/Berlin:20220604T101500
DTEND;TZID=Europe/Berlin:20220604T104500
SUMMARY:RNO-Quali 3  HC Rödertal  vs SV Union Halle-Neu. (4030)
UID:8f4cd251-dde9-452e-8d4e-5712935904e6
STATUS:CONFIRMED
LAST-MODIFIED:20220605T082900Z
DESCRIPTION:RNO-Qualifikation wJB - Turnier 03 \nBegegnungs-Nr: 4030\nHeim: HC Rödertal \nGast: SV Union Halle-Neu.\nHalle: SH \"Heiliger Grund\" Meißen (33212)\nAdresse: Goethestraße 27\, 01662 Meißen\n
LOCATION:SH \"Heiliger Grund\" Meißen (33212): Goethestraße 27\, 01662 Meißen
CATEGORIES:Saison 2021/22
END:VEVENT
BEGIN:VEVENT
DTSTAMP:20260424T151336Z
DTSTART;TZID=Europe/Berlin:20220604T131500
DTEND;TZID=Europe/Berlin:20220604T134500
SUMMARY:RNO-Quali 3  Görlitzer HC vs SV Union Halle-Neu. (4034)
UID:50013b4c-97d1-4f2f-9386-a0ed3da690be
STATUS:CONFIRMED
LAST-MODIFIED:20220605T083211Z
DESCRIPTION:RNO-Qualifikation wJB - Turnier 03 \nBegegnungs-Nr: 4034\nHeim: Görlitzer HC\nGast: SV Union Halle-Neu.\nHalle: SH \"Heiliger Grund\" Meißen (33212)\nAdresse: Goethestraße 27\, 01662 Meißen\n
LOCATION:SH \"Heiliger Grund\" Meißen (33212): Goethestraße 27\, 01662 Meißen
CATEGORIES:Saison 2021/22
END:VEVENT
BEGIN:VEVENT
DTSTAMP:20260424T151336Z
DTSTART;TZID=Europe/Berlin:20211003T160000
DTEND;TZID=Europe/Berlin:20211003T170000
SUMMARY:RNO wJB Thüringer HC vs SV Union Halle-Neu. (101)
UID:152bb726-9ba8-465c-a61b-113feb3dd7e8
STATUS:CONFIRMED
LAST-MODIFIED:20211005T212455Z
DESCRIPTION:Regionalliga Nordost weibliche Jugend B\nBegegnungs-Nr: 101\nHeim: Thüringer HC\nGast: SV Union Halle-Neu.\nHalle: Bad Langensalza\, Salza-Halle (421205)\nAdresse: Hannoversche Strasse 1a\, 99947 Bad Langensalza\n
LOCATION:Bad Langensalza\, Salza-Halle (421205): Hannoversche Strasse 1a\, 99947 Bad Langensalza
CATEGORIES:Saison 2021/22
END:VEVENT
BEGIN:VEVENT
DTSTAMP:20260424T151336Z
DTSTART;TZID=Europe/Berlin:20220319T153000
DTEND;TZID=Europe/Berlin:20220319T163000
SUMMARY:RNO wJB HC Rödertal  vs SV Union Halle-Neu. (178)
UID:bebaebbe-1fda-4769-bf36-a9c1da786927
STATUS:CONFIRMED
LAST-MODIFIED:20220321T143554Z
DESCRIPTION:Regionalliga Nordost weibliche Jugend B\nBegegnungs-Nr: 178\nHeim: HC Rödertal \nGast: SV Union Halle-Neu.\nHalle: 3-Feld-Halle-GY Großröhrsdorf (34514)\nAdresse: Melanchthonstraße 21\, 01900  Großröhrsdorf\n
LOCATION:3-Feld-Halle-GY Großröhrsdorf (34514): Melanchthonstraße 21\, 01900  Großröhrsdorf
CATEGORIES:Saison 2021/22
END:VEVENT
BEGIN:VEVENT
DTSTAMP:20260424T151336Z
DTSTART;TZID=Europe/Berlin:20220403T140000
DTEND;TZID=Europe/Berlin:20220403T150000
SUMMARY:RNO wJB Berliner TSC vs SV Union Halle-Neu. (190)
UID:8c61e014-4d98-4137-9cb4-59821486a061
STATUS:CONFIRMED
LAST-MODIFIED:20220403T180933Z
DESCRIPTION:Regionalliga Nordost weibliche Jugend B\nBegegnungs-Nr: 190\nHeim: Berliner TSC\nGast: SV Union Halle-Neu.\nHalle: Sporthalle Paul-Heyse-Str. (442)\nAdresse: Paul-Heyse-Straße 25\, 10407 Berlin\n
LOCATION:Sporthalle Paul-Heyse-Str. (442): Paul-Heyse-Straße 25\, 10407 Berlin
CATEGORIES:Saison 2021/22
END:VEVENT
BEGIN:VEVENT
DTSTAMP:20260424T151336Z
DTSTART;TZID=Europe/Berlin:20220313T123000
DTEND;TZID=Europe/Berlin:20220313T133000
SUMMARY:RNO wJB Rostocker Handball Club vs SV Union Halle-Neu. (162)
UID:5b777b9f-cdb0-4961-a39a-b786bd46a74f
STATUS:CONFIRMED
LAST-MODIFIED:20220316T081442Z
DESCRIPTION:Regionalliga Nordost weibliche Jugend B\nBegegnungs-Nr: 162\nHeim: Rostocker Handball Club\nGast: SV Union Halle-Neu.\nHalle: Fiete-Reder-Sporthalle (016)\nAdresse: Marieneher Str. 4\, 18069 Rostock\n
LOCATION:Fiete-Reder-Sporthalle (016): Marieneher Str. 4\, 18069 Rostock
CATEGORIES:Saison 2021/22
END:VEVENT
BEGIN:VEVENT
DTSTAMP:20260424T151336Z
DTSTART;TZID=Europe/Berlin:20220122T130000
DTEND;TZID=Europe/Berlin:20220122T140000
SUMMARY:RNO wJB Frankfurter HC vs SV Union Halle-Neu. (152)
UID:ae750d5d-a25c-4477-a75a-f562e50c1ffc
STATUS:CONFIRMED
LAST-MODIFIED:20220205T142652Z
DESCRIPTION:Regionalliga Nordost weibliche Jugend B\nBegegnungs-Nr: 152\nHeim: Frankfurter HC\nGast: SV Union Halle-Neu.\nHalle: Brandenburg-Halle (2000)\nAdresse: Stendaler Strasse 26\, 15234 Frankfurt (Oder)\n
LOCATION:Brandenburg-Halle (2000): Stendaler Strasse 26\, 15234 Frankfurt (Oder)
CATEGORIES:Saison 2021/22
END:VEVENT
BEGIN:VEVENT
DTSTAMP:20260424T151336Z
DTSTART;TZID=Europe/Berlin:20211210T193000
DTEND;TZID=Europe/Berlin:20211210T203000
SUMMARY:RNO wJB BSV Sa. Zwickau vs SV Union Halle-Neu. (134)
UID:c47a99c4-b6e2-4961-8cd6-ae6ae04d011c
STATUS:CONFIRMED
LAST-MODIFIED:20220102T185628Z
DESCRIPTION:Regionalliga Nordost weibliche Jugend B\nBegegnungs-Nr: 134\nHeim: BSV Sa. Zwickau\nGast: SV Union Halle-Neu.\nHalle: SH Zwickau-Neuplanitz (32501)\nAdresse: Dortmunder Str. 7a\, 08062 Zwickau\n
LOCATION:SH Zwickau-Neuplanitz (32501): Dortmunder Str. 7a\, 08062 Zwickau
CATEGORIES:Saison 2021/22
END:VEVENT
BEGIN:VEVENT
DTSTAMP:20260424T151336Z
DTSTART;TZID=Europe/Berlin:20211017T160000
DTEND;TZID=Europe/Berlin:20211017T170000
SUMMARY:RNO wJB SV Grün Weiß Schwerin vs SV Union Halle-Neu. (122)
UID:a638fd18-fc44-4d50-981d-3753fd213c84
STATUS:CONFIRMED
LAST-MODIFIED:20211019T180340Z
DESCRIPTION:Regionalliga Nordost weibliche Jugend B\nBegegnungs-Nr: 122\nHeim: SV Grün Weiß Schwerin\nGast: SV Union Halle-Neu.\nHalle: Sporthalle Reiferbahn (087)\nAdresse: Reiferbahn 8\, 19053 Schwerin\n
LOCATION:Sporthalle Reiferbahn (087): Reiferbahn 8\, 19053 Schwerin
CATEGORIES:Saison 2021/22
END:VEVENT
BEGIN:VEVENT
DTSTAMP:20260424T151336Z
DTSTART;TZID=Europe/Berlin:20210919T110000
DTEND;TZID=Europe/Berlin:20210919T120000
SUMMARY:RNO wJB HC Leipzig vs SV Union Halle-Neu. (110)
UID:e5e6759b-e52e-4697-9528-c9de34dd0ef7
STATUS:CONFIRMED
LAST-MODIFIED:20210921T220745Z
DESCRIPTION:Regionalliga Nordost weibliche Jugend B\nBegegnungs-Nr: 110\nHeim: HC Leipzig\nGast: SV Union Halle-Neu.\nHalle: SH Brüderstraße Leipzig (31101)\nAdresse: Brüderstr. 15\, 04103 Leipzig\n
LOCATION:SH Brüderstraße Leipzig (31101): Brüderstr. 15\, 04103 Leipzig
CATEGORIES:Saison 2021/22
END:VEVENT
BEGIN:VEVENT
DTSTAMP:20260424T151336Z
DTSTART;TZID=Europe/Berlin:20220312T140000
DTEND;TZID=Europe/Berlin:20220312T150000
SUMMARY:RNO wJB HSV Magdeburg vs SV Union Halle-Neu. (175)
UID:7a1ed09f-4465-43e0-b543-874a38fefa93
STATUS:CONFIRMED
LAST-MODIFIED:20220316T080917Z
DESCRIPTION:Regionalliga Nordost weibliche Jugend B\nBegegnungs-Nr: 175\nHeim: HSV Magdeburg\nGast: SV Union Halle-Neu.\nHalle: SH Eike-von-Repgow\, Magdeburg (1105)\nAdresse: Albert-Vater-Straße 90\, 39108 Magdeburg\n
LOCATION:SH Eike-von-Repgow\, Magdeburg (1105): Albert-Vater-Straße 90\, 39108 Magdeburg
CATEGORIES:Saison 2021/22
END:VEVENT
END:VCALENDAR
